BEGIN:VCALENDAR
VERSION:2.0
PRODID:-//Aarne Pelkonen - ECPv6.15.20//NONSGML v1.0//EN
CALSCALE:GREGORIAN
METHOD:PUBLISH
X-WR-CALNAME:Aarne Pelkonen
X-ORIGINAL-URL:https://aarnepelkonen.com
X-WR-CALDESC:Tapahtumat Aarne Pelkonen
REFRESH-INTERVAL;VALUE=DURATION:PT1H
X-Robots-Tag:noindex
X-PUBLISHED-TTL:PT1H
BEGIN:VTIMEZONE
TZID:Europe/Helsinki
BEGIN:DAYLIGHT
TZOFFSETFROM:+0200
TZOFFSETTO:+0300
TZNAME:EEST
DTSTART:20220327T010000
END:DAYLIGHT
BEGIN:STANDARD
TZOFFSETFROM:+0300
TZOFFSETTO:+0200
TZNAME:EET
DTSTART:20221030T010000
END:STANDARD
BEGIN:DAYLIGHT
TZOFFSETFROM:+0200
TZOFFSETTO:+0300
TZNAME:EEST
DTSTART:20230326T010000
END:DAYLIGHT
BEGIN:STANDARD
TZOFFSETFROM:+0300
TZOFFSETTO:+0200
TZNAME:EET
DTSTART:20231029T010000
END:STANDARD
BEGIN:DAYLIGHT
TZOFFSETFROM:+0200
TZOFFSETTO:+0300
TZNAME:EEST
DTSTART:20240331T010000
END:DAYLIGHT
BEGIN:STANDARD
TZOFFSETFROM:+0300
TZOFFSETTO:+0200
TZNAME:EET
DTSTART:20241027T010000
END:STANDARD
END:VTIMEZONE
BEGIN:VEVENT
DTSTART;TZID=Europe/Helsinki:20230805T190000
DTEND;TZID=Europe/Helsinki:20230805T210000
DTSTAMP:20260422T220100
CREATED:20230308T094031Z
LAST-MODIFIED:20230308T094031Z
UID:3449-1691262000-1691269200@aarnepelkonen.com
SUMMARY:Rauma Festivo: Kunniavieras
DESCRIPTION:Rauma Festivon 40-vuotisjuhlien kunniavieras on festivaalin perustaja ja ensimmäinen taiteellinen johtaja\, pianisti Ralf Gothóni. Hänen kanssaan ensimmäistä kertaa yhdessä esiintyy toinen Rauman oma poika\, baritoni Aarne Pelkonen. Schumannin Dichterliebe kuullaan myös Aila Gothonin suomenkielisinä käännöksinä näyttelijä Miiko Toiviaisen tulkintoina. Mozartin g-mollipianokvartetto kruunaa juhlan. \nOhjelma\nRobert Schumann: Dichterliebe op. 48 (1840)\nDichterlieben käännös: Aila Gothoni \nW. A. Mozart: Pianokvartetto g-molli K 478 (1785) \nEsiintyjät\nRalf Gothóni\, piano\nAarne Pelkonen\, baritoni\nMiiko Toiviainen\, näyttelijä\nSiljamari Heikinheimo\, viulu\nHanna Hohti\, alttoviulu\nMarkus Hohti\, sello \nKesto noin 1 h 40 min\, sisältää väliajan. \nLue lisää & liput
URL:https://aarnepelkonen.com/event/rauma-festivo-kunniavieras/
LOCATION:Rauma-sali\, Satamakatu 26\, 26100
ATTACH;FMTTYPE=image/jpeg:https://aarnepelkonen.com/wp-content/uploads/2023/03/Aarne3-1280x720-1.jpg
END:VEVENT
BEGIN:VEVENT
DTSTART;TZID=Europe/Helsinki:20230806T200000
DTEND;TZID=Europe/Helsinki:20230806T210000
DTSTAMP:20260422T220100
CREATED:20230619T110840Z
LAST-MODIFIED:20230619T111402Z
UID:3546-1691352000-1691355600@aarnepelkonen.com
SUMMARY:Virsi-juhlakonsertti
DESCRIPTION:Aarnen ensimmäinen levy Virsi täyttää tänä vuonna 10 vuotta. Ensimmäinen levyn juhlakonsertti kuullaan Teljän kirkossa 6.8. klo 20. Pianistina Juho Alakärppä. \nLue lisää
URL:https://aarnepelkonen.com/event/virsi-juhlakonsertti/
LOCATION:Porin Teljän kirkko\, Koivistonpuistikko 50\, Pori\, 28130
ATTACH;FMTTYPE=image/jpeg:https://aarnepelkonen.com/wp-content/uploads/2023/06/Duokuva-1280-720.jpg
END:VEVENT
BEGIN:VEVENT
DTSTART;TZID=Europe/Helsinki:20230810T180000
DTEND;TZID=Europe/Helsinki:20230810T200000
DTSTAMP:20260422T220100
CREATED:20221010T064449Z
LAST-MODIFIED:20221010T064743Z
UID:3164-1691690400-1691697600@aarnepelkonen.com
SUMMARY:Mari Palo & Aarne Pelkonen
DESCRIPTION:Sopraano Mari Palo ja baritoni Aarne Pelkonen lyövät hynttyyt yhteen ja heittäytyvät rakkauden virran vietäviksi. Illan aikana kuullaan Marille ja Aarnelle läheisiä rakkausaiheisia lauluja ja aarioita\, säveltäjäniminä mm. Schumann\, Mahler ja Mozart. Pianistina konsertissa on huikea Jukka Nykänen. \nLue lisää & liput
URL:https://aarnepelkonen.com/event/mari-palo-aarne-pelkonen/
LOCATION:Turun konserttitalo\, Aninkaistenkatu 9\, Turku\, 20100
ATTACH;FMTTYPE=image/jpeg:https://aarnepelkonen.com/wp-content/uploads/2022/10/Mari-ja-Aarne.jpg
END:VEVENT
BEGIN:VEVENT
DTSTART;TZID=Europe/Helsinki:20230831T210000
DTEND;TZID=Europe/Helsinki:20230831T223000
DTSTAMP:20260422T220100
CREATED:20230309T113510Z
LAST-MODIFIED:20230309T113510Z
UID:3453-1693515600-1693521000@aarnepelkonen.com
SUMMARY:Benjamin Britten: Kuovijoki
DESCRIPTION:Urkuyö ja Aaria -festivaalin kesä huipentuu oopperaan! Benjamin Brittenin kirkko-ooppera Kuovijoki (alkup. Curlew River\, 1964) on koskettava teos poikaansa etsivästä äidistä. Japanilaista Noh-näytelmää mukaillen Britten sävelsi teoksen kirkkoon soveltuvaksi kirkkoparaabeliksi\, jossa satojen vuosien takainen tarina herää henkiin vaikuttavan solistijoukon\, kuoron ja soitinryhmän esittämänä. Ohjauksesta ja visuaalisuudesta vastaa visionäärinen Aleksi Barrière ranskalaisen taiteilijakollektiivinsa kanssa. \nTuomas Katajala\, tenori (Hullu nainen)\nArttu Kataja\, baritoni (Lautturi)\nAarne Pelkonen\, baritoni (Matkamies)\nMatti Turunen\, basso (Apotti)  \nNäytökset\nto 31.8.2023 klo 21\nla 2.9.2023 klo 21\nEspoon tuomiokirkko \nLue lisää & liput
URL:https://aarnepelkonen.com/event/benjamin-britten-kuovijoki/
LOCATION:Espoon tuomiokirkko\, Kirkkopuisto 5\, Espoo\, 02770\, Suomi
ATTACH;FMTTYPE=image/jpeg:https://aarnepelkonen.com/wp-content/uploads/2023/03/urkuyo-tausta.jpg
END:VEVENT
END:VCALENDAR