BEGIN:VCALENDAR
VERSION:2.0
PRODID:-//Aarne Pelkonen - ECPv6.15.20//NONSGML v1.0//EN
CALSCALE:GREGORIAN
METHOD:PUBLISH
X-ORIGINAL-URL:https://aarnepelkonen.com
X-WR-CALDESC:Tapahtumat Aarne Pelkonen
REFRESH-INTERVAL;VALUE=DURATION:PT1H
X-Robots-Tag:noindex
X-PUBLISHED-TTL:PT1H
BEGIN:VTIMEZONE
TZID:Europe/Helsinki
BEGIN:DAYLIGHT
TZOFFSETFROM:+0200
TZOFFSETTO:+0300
TZNAME:EEST
DTSTART:20220327T010000
END:DAYLIGHT
BEGIN:STANDARD
TZOFFSETFROM:+0300
TZOFFSETTO:+0200
TZNAME:EET
DTSTART:20221030T010000
END:STANDARD
BEGIN:DAYLIGHT
TZOFFSETFROM:+0200
TZOFFSETTO:+0300
TZNAME:EEST
DTSTART:20230326T010000
END:DAYLIGHT
BEGIN:STANDARD
TZOFFSETFROM:+0300
TZOFFSETTO:+0200
TZNAME:EET
DTSTART:20231029T010000
END:STANDARD
BEGIN:DAYLIGHT
TZOFFSETFROM:+0200
TZOFFSETTO:+0300
TZNAME:EEST
DTSTART:20240331T010000
END:DAYLIGHT
BEGIN:STANDARD
TZOFFSETFROM:+0300
TZOFFSETTO:+0200
TZNAME:EET
DTSTART:20241027T010000
END:STANDARD
END:VTIMEZONE
BEGIN:VEVENT
DTSTART;VALUE=DATE:20230722
DTEND;VALUE=DATE:20230729
DTSTAMP:20260422T203816
CREATED:20230311T073031Z
LAST-MODIFIED:20230311T073031Z
UID:3476-1689984000-1690588799@aarnepelkonen.com
SUMMARY:Laulukurssi Joutsenossa
DESCRIPTION:Perinteikäs Taidekesän lauluviikko pidetään 22.-28.7. idyllisellä Joutsenon opistolla Lappeenrannan kainalossa. Aarne on opettanut Joutsenossa monena kesänä ja palaa opettajaksi välivuoden jälkeen.  \nLue lisää & hae opiskelijaksi
URL:https://aarnepelkonen.com/event/laulukurssi-joutsenossa/
LOCATION:Joutsenon opisto\, Pöyhiänniementie 2\, Joutseno\, 54100
ATTACH;FMTTYPE=image/jpeg:https://aarnepelkonen.com/wp-content/uploads/2022/05/Aarne-liivi-1280x720-1.jpg
END:VEVENT
BEGIN:VEVENT
DTSTART;TZID=Europe/Helsinki:20230729T190000
DTEND;TZID=Europe/Helsinki:20230729T203000
DTSTAMP:20260422T203816
CREATED:20230308T093315Z
LAST-MODIFIED:20230308T093401Z
UID:3443-1690657200-1690662600@aarnepelkonen.com
SUMMARY:Laulaja taivaan portilla
DESCRIPTION:Kirkkomusiikin aarteita on tarjolla konsertissa\, jonka riipaisevan kauniiden teosten taustoihin ja tunnelmiin kuulijat johdattaa radio-ohjelmastaan tuttu Risto Nordell. \nRisto Nordell\, juonto\nAarne Pelkonen\, baritoni\nJuho Alakärppä\nMatti Pohjoisaho\, urut \nBuxtehude\, Bach\, Kokkonen\, Mendelssohn\, Mahler\, Merikanto \nLue lisää & liput
URL:https://aarnepelkonen.com/event/laulaja-taivaan-portilla/
LOCATION:Lohtajan kirkko\, Lohtajan kirkkotie 2 B\, Lohtaja\, 68230
ATTACH;FMTTYPE=image/jpeg:https://aarnepelkonen.com/wp-content/uploads/2023/03/Duo1-1280x720-1.jpg
END:VEVENT
END:VCALENDAR