BEGIN:VCALENDAR
VERSION:2.0
PRODID:-//Aarne Pelkonen - ECPv6.15.20//NONSGML v1.0//EN
CALSCALE:GREGORIAN
METHOD:PUBLISH
X-ORIGINAL-URL:https://aarnepelkonen.com
X-WR-CALDESC:Tapahtumat Aarne Pelkonen
REFRESH-INTERVAL;VALUE=DURATION:PT1H
X-Robots-Tag:noindex
X-PUBLISHED-TTL:PT1H
BEGIN:VTIMEZONE
TZID:Europe/Helsinki
BEGIN:DAYLIGHT
TZOFFSETFROM:+0200
TZOFFSETTO:+0300
TZNAME:EEST
DTSTART:20210328T010000
END:DAYLIGHT
BEGIN:STANDARD
TZOFFSETFROM:+0300
TZOFFSETTO:+0200
TZNAME:EET
DTSTART:20211031T010000
END:STANDARD
BEGIN:DAYLIGHT
TZOFFSETFROM:+0200
TZOFFSETTO:+0300
TZNAME:EEST
DTSTART:20220327T010000
END:DAYLIGHT
BEGIN:STANDARD
TZOFFSETFROM:+0300
TZOFFSETTO:+0200
TZNAME:EET
DTSTART:20221030T010000
END:STANDARD
BEGIN:DAYLIGHT
TZOFFSETFROM:+0200
TZOFFSETTO:+0300
TZNAME:EEST
DTSTART:20230326T010000
END:DAYLIGHT
BEGIN:STANDARD
TZOFFSETFROM:+0300
TZOFFSETTO:+0200
TZNAME:EET
DTSTART:20231029T010000
END:STANDARD
END:VTIMEZONE
BEGIN:VEVENT
DTSTART;TZID=Europe/Helsinki:20221104T190000
DTEND;TZID=Europe/Helsinki:20221104T203000
DTSTAMP:20260423T072228
CREATED:20221026T124928Z
LAST-MODIFIED:20221026T125040Z
UID:3201-1667588400-1667593800@aarnepelkonen.com
SUMMARY:RSO:n Nenäpäivä-konsertti
DESCRIPTION:RSO heittäytyy Nenäpäivään rohkealla teemalla ja kiinnostavilla kappalevalinnoilla! Naisten ja tyttöjen näkökulma musiikissa loistaa kirkkaasti ja lämpöisesti jokaisessa kuultavassa kappaleessa. Solisteina mm. Anu Komsi\, Emma Salokoski\, Anni Elif Egecioglu ja Aarne Pelkonen. Konsertin juontaa Lola Odusoga. \nSuora lähetys Yle TV1:ssä ja Areenassa 4.11. klo 19 \nKatso Areenassa
URL:https://aarnepelkonen.com/event/rson-nenapaiva-konsertti/
ATTACH;FMTTYPE=image/jpeg:https://aarnepelkonen.com/wp-content/uploads/2022/10/RSO-nenapaiva.jpg
END:VEVENT
BEGIN:VEVENT
DTSTART;TZID=Europe/Helsinki:20221106T150000
DTEND;TZID=Europe/Helsinki:20221106T163000
DTSTAMP:20260423T072228
CREATED:20221008T072054Z
LAST-MODIFIED:20221010T063436Z
UID:3157-1667746800-1667752200@aarnepelkonen.com
SUMMARY:Kaipuuni siivet
DESCRIPTION:Aarne esiintyy Keski-Suomen Syöpäyhdistyksen järjestämässä hyväntekeväisyyskonsertissa yhdessä pianisti Juho Alakärpän kanssa. Pyhäinpäivän jälkeisessä konsertissa kuullaan lauluja rakkauden ja ikuisuuden kaipuusta mm. säveltäjiltä Oskari Merikanto\, Jean Sibelius ja Franz Schubert. Konsertti päättyy Eino Leinoon ja Aarnen Haavekuvia-lauluihin. \nLippuvaraukset: \nkatriina.nokelainen@kessy.fi \n014 3330 220 \nLisätiedot
URL:https://aarnepelkonen.com/event/kaipuuni-siivet/
LOCATION:Jyväskylän Kaupunginkirkko\, Kirkkopuisto\, Jyväskylä\, 40100\, Suomi
ATTACH;FMTTYPE=image/jpeg:https://aarnepelkonen.com/wp-content/uploads/2022/10/Aarne-tumma-poolo.jpg
END:VEVENT
BEGIN:VEVENT
DTSTART;TZID=Europe/Helsinki:20221113T150000
DTEND;TZID=Europe/Helsinki:20221113T170000
DTSTAMP:20260423T072228
CREATED:20220926T132657Z
LAST-MODIFIED:20221026T102935Z
UID:3084-1668351600-1668358800@aarnepelkonen.com
SUMMARY:Kaipuuni Karjala
DESCRIPTION:Pääkaupunkiseudun Räisäläiset juhlistavat 70-vuotista taivaltaan isänpäivän juhlakonsertilla Helsingin Kallion kirkossa. Konsertissa kuulla suomalaisia säveleitä ja tietenkin Karjala-aiheisia lauluja. Konsertti on Aarnelle henkilökohtainen\, sillä hänen isänsä on syntynyt Räisälässä Karjalan kannaksella. Pianistina Juho Alakärppä. \nOsta liput
URL:https://aarnepelkonen.com/event/karjala-konsertti/
LOCATION:Kallion kirkko\, Helsinki\, Itäinen Papinkatu 2\, Helsinki\, 00530
ATTACH;FMTTYPE=image/jpeg:https://aarnepelkonen.com/wp-content/uploads/2022/05/Aarne-liivi-1280x720-1.jpg
END:VEVENT
BEGIN:VEVENT
DTSTART;TZID=Europe/Helsinki:20221119T190000
DTEND;TZID=Europe/Helsinki:20221119T210000
DTSTAMP:20260423T072228
CREATED:20220926T131308Z
LAST-MODIFIED:20220926T133421Z
UID:3076-1668884400-1668891600@aarnepelkonen.com
SUMMARY:Itämeri soi Ukrainalle
DESCRIPTION:Helsingissä saadaan kokea marraskuussa todellinen tähtientäyteinen suurkonsertti\, kun Suomen\, Ukrainan\, Viron\, Latvian ja Liettuan huippuartistit kokoontuvat yhteiseen esiintymiseen Kulttuuritaloon. Tässä Itämeri soi Ukrainalle -konsertissa esiintyvät  suomalaisista artisteista Kyösti Mäkimattila\, Aarne Pelkonen\, Pentti Hietanen\, Jannike\, Elena ja Riku Niemi Orchestra. \nUkrainaa edustavat konsertissa Katerina Buzhinska\, Alex Kozar\, Zhanna Bodnaruk ja Anatoli Karpenko\, Viroa vuoden 2021 euroviisulaulaja Uku Suviste\, Latviaa saksofonisti Deniss Paškevičsja ja jazzlaulalaja Jolanta Gulbe-Paškeviča ja Liettuaa sopraano Jomante Šležaite. Mukana esityksissä on myös Tanssistudio Jami. \nLue lisää & liput
URL:https://aarnepelkonen.com/event/leipzig-1722/
LOCATION:Kulttuuritalo\, Sturenkatu 4\, Helsinki\, 00510
ATTACH;FMTTYPE=image/jpeg:https://aarnepelkonen.com/wp-content/uploads/2022/09/itameri-ukrainalle-1280x720-1.jpg
END:VEVENT
BEGIN:VEVENT
DTSTART;TZID=Europe/Helsinki:20221120T150000
DTEND;TZID=Europe/Helsinki:20221120T170000
DTSTAMP:20260423T072228
CREATED:20220926T130651Z
LAST-MODIFIED:20220926T130651Z
UID:3073-1668956400-1668963600@aarnepelkonen.com
SUMMARY:Viimeiset laulut
DESCRIPTION:Ohjelman runkona on Schubertin viimeiseksi jäänyt laulusarja Schwanengesang. Sarja jakaantuu kahteen kokonaisuuteen\, Rellstabin ja Heinen teksteihin sävellettyihin lauluihin. Kokonaisuuksien väliin\, kommentoimaan rakkauden viiltävää kipua ja kauneutta\, on sijoitettu Sibeliuksen viimeiseksi jäänyt laulukokoelma op 90 Runebergin teksteihin. Ohjelma tarjoaa kahden suuren säveltäjän soivan testamentin\, näyttää heidät parhaimmillaan ja paljaimmillaan: kaiken jälkeen jäljelle jää vain kaipaus\, ”Sehnsucht”\, ”längtan”. \nLue lisää & liput
URL:https://aarnepelkonen.com/event/viimeiset-laulut/
LOCATION:Hietsun Paviljonki\, Hiekkarannantie 9\, Helsinki\, 00100
ATTACH;FMTTYPE=image/jpeg:https://aarnepelkonen.com/wp-content/uploads/2021/10/Aarne-ja-Juho-1280x720-2.jpg
END:VEVENT
BEGIN:VEVENT
DTSTART;TZID=Europe/Helsinki:20221126T190000
DTEND;TZID=Europe/Helsinki:20221126T210000
DTSTAMP:20260423T072228
CREATED:20220926T124649Z
LAST-MODIFIED:20220926T125140Z
UID:3045-1669489200-1669496400@aarnepelkonen.com
SUMMARY:CircOpera 2.0
DESCRIPTION:Tällaista teosta ei ole ennen oopperalavoilla nähty! Kansallisoopperan uusi CircOpera 2.0 vie katsojan kokonaisvaltaiselle elämysseikkailulle oopperan ja nykysirkuksen maailmaan ja tui säihkettä keskelle pimeintä vuodenaikaa. \nEsitykset kahdella miehityksellä 25.11.2022-7.1.2023.  \nLue lisää & liput
URL:https://aarnepelkonen.com/event/circopera-2-0/
LOCATION:Suomen Kansallisooppera\, Helsinginkatu 58\, Helsinki\, 00250\, Suomi
ATTACH;FMTTYPE=image/jpeg:https://aarnepelkonen.com/wp-content/uploads/2022/09/circopera-1280x720-1.jpg
END:VEVENT
BEGIN:VEVENT
DTSTART;TZID=Europe/Helsinki:20221127T160000
DTEND;TZID=Europe/Helsinki:20221127T170000
DTSTAMP:20260423T072228
CREATED:20221105T170919Z
LAST-MODIFIED:20221105T170919Z
UID:3207-1669564800-1669568400@aarnepelkonen.com
SUMMARY:Joulukonsertti
DESCRIPTION:Helsinki Brass Quartetin perinteinen joulukonsertti täyttää Ulvilan keskiaikaisen kivikirkon rakastetuimmilla joululauluilla. Solistina Aarne Pelkonen. \nUlvilan kirkko 27.11. klo 16 \nLiput 25 e: Ulvilan kirjasto ja Kukka-Ulvila sekä tuntia ennen ovelta.\nTuotto ohjataan lasten ja nuorten tukemiseen\,
URL:https://aarnepelkonen.com/event/joulukonsertti-3/
LOCATION:Ulvilan kirkko\, Saarentie 2\, Ulvila\, 28450
ATTACH;FMTTYPE=image/jpeg:https://aarnepelkonen.com/wp-content/uploads/2022/11/Aarne-poolo-1280x720-1.jpg
END:VEVENT
BEGIN:VEVENT
DTSTART;TZID=Europe/Helsinki:20221129T190000
DTEND;TZID=Europe/Helsinki:20221129T203000
DTSTAMP:20260423T072228
CREATED:20221117T202717Z
LAST-MODIFIED:20221117T202842Z
UID:3249-1669748400-1669753800@aarnepelkonen.com
SUMMARY:Baronan joulukonsertti 2022
DESCRIPTION:Baronan perinteinen joulukonsertti tulee taas tiistaina 29.11.2022. Aloitetaan jouluun laskeutuminen yhdessä riemulla\, ilolla ja armolla – tule linjoille suoraan lähetykseen! \nKonsertissa esiintyvät Ida Elina\, Aarne\, Marzi Nyman\, lapsikuoro CandoMini (joht. Anna Sandström) sekä Yuletide Carols Orchestra Tommi Niskalan johdolla. \nLue lisää
URL:https://aarnepelkonen.com/event/baronan-joulukonsertti-2022/
ATTACH;FMTTYPE=image/jpeg:https://aarnepelkonen.com/wp-content/uploads/2022/11/Baronan-joulumainos.jpg
END:VEVENT
END:VCALENDAR