BEGIN:VCALENDAR
VERSION:2.0
PRODID:-//Aarne Pelkonen - ECPv6.15.20//NONSGML v1.0//EN
CALSCALE:GREGORIAN
METHOD:PUBLISH
X-ORIGINAL-URL:https://aarnepelkonen.com
X-WR-CALDESC:Tapahtumat Aarne Pelkonen
REFRESH-INTERVAL;VALUE=DURATION:PT1H
X-Robots-Tag:noindex
X-PUBLISHED-TTL:PT1H
BEGIN:VTIMEZONE
TZID:Europe/Helsinki
BEGIN:DAYLIGHT
TZOFFSETFROM:+0200
TZOFFSETTO:+0300
TZNAME:EEST
DTSTART:20210328T010000
END:DAYLIGHT
BEGIN:STANDARD
TZOFFSETFROM:+0300
TZOFFSETTO:+0200
TZNAME:EET
DTSTART:20211031T010000
END:STANDARD
BEGIN:DAYLIGHT
TZOFFSETFROM:+0200
TZOFFSETTO:+0300
TZNAME:EEST
DTSTART:20220327T010000
END:DAYLIGHT
BEGIN:STANDARD
TZOFFSETFROM:+0300
TZOFFSETTO:+0200
TZNAME:EET
DTSTART:20221030T010000
END:STANDARD
BEGIN:DAYLIGHT
TZOFFSETFROM:+0200
TZOFFSETTO:+0300
TZNAME:EEST
DTSTART:20230326T010000
END:DAYLIGHT
BEGIN:STANDARD
TZOFFSETFROM:+0300
TZOFFSETTO:+0200
TZNAME:EET
DTSTART:20231029T010000
END:STANDARD
END:VTIMEZONE
BEGIN:VEVENT
DTSTART;TZID=Europe/Helsinki:20220402T190000
DTEND;TZID=Europe/Helsinki:20220402T223000
DTSTAMP:20260423T160959
CREATED:20211011T181215Z
LAST-MODIFIED:20220331T055926Z
UID:1390-1648926000-1648938600@aarnepelkonen.com
SUMMARY:Billy Budd -ooppera
DESCRIPTION:Aarne laulaa Donaldin roolin\, kun Benjamin Brittenin meriaiheinen mestariteos nähdään ensi kertaa Kansallisoopperassa keväällä 2022. Sykähdyttävä toteutus huokuu toisen maailmansodan aikaisen sukellusveneen klaustrofobista tunnelmaa. Näyttävä lavastus ja puvut vievät 1940-luvun Ranskan sotalaivastoon\, jota ohjaavat merimiesten kurinalainen maailma ja sodan väistämättömyys. \nMusiikki: Benjamin Britten\nOhjaus: Annilese Miskimmom\nMusiikinjohto: Hannu Lintu ja Kalle Kuusava \nLUE LISÄÄ JA OSTA LIPUT
URL:https://aarnepelkonen.com/event/billy-budd-ooppera-8/
LOCATION:Suomen Kansallisooppera\, Helsinginkatu 58\, Helsinki\, 00250\, Suomi
ATTACH;FMTTYPE=image/jpeg:https://aarnepelkonen.com/wp-content/uploads/2021/10/BIlly-Budd2-1280x720-1.jpg
END:VEVENT
BEGIN:VEVENT
DTSTART;TZID=Europe/Helsinki:20220405T190000
DTEND;TZID=Europe/Helsinki:20220405T223000
DTSTAMP:20260423T160959
CREATED:20211011T181045Z
LAST-MODIFIED:20220331T060524Z
UID:1387-1649185200-1649197800@aarnepelkonen.com
SUMMARY:Billy Budd -ooppera
DESCRIPTION:Aarne laulaa Donaldin roolin\, kun Benjamin Brittenin meriaiheinen mestariteos nähdään ensi kertaa Kansallisoopperassa keväällä 2022. Sykähdyttävä toteutus huokuu toisen maailmansodan aikaisen sukellusveneen klaustrofobista tunnelmaa. Näyttävä lavastus ja puvut vievät 1940-luvun Ranskan sotalaivastoon\, jota ohjaavat merimiesten kurinalainen maailma ja sodan väistämättömyys. \nMusiikki: Benjamin Britten\nOhjaus: Annilese Miskimmom\nMusiikinjohto: Hannu Lintu ja Kalle Kuusava \nLUE LISÄÄ JA OSTA LIPUT
URL:https://aarnepelkonen.com/event/billy-budd-ooppera-7/
LOCATION:Suomen Kansallisooppera\, Helsinginkatu 58\, Helsinki\, 00250\, Suomi
ATTACH;FMTTYPE=image/jpeg:https://aarnepelkonen.com/wp-content/uploads/2021/10/BIlly-Budd2-1280x720-1.jpg
END:VEVENT
BEGIN:VEVENT
DTSTART;TZID=Europe/Helsinki:20220421T190000
DTEND;TZID=Europe/Helsinki:20220421T210000
DTSTAMP:20260423T160959
CREATED:20220309T131205Z
LAST-MODIFIED:20220331T062336Z
UID:2248-1650567600-1650574800@aarnepelkonen.com
SUMMARY:Lisbeta-ooppera
DESCRIPTION:Lisbeta – noitanaisen älä anna elää on Ahvenanmaan itsehallinnon satavuotisjuhlan kunniaksi sävelletty ooppera naisvihasta ja taikauskosta. Teos sain kantaesityksensä Maarianhaminassa kesällä 2021 ja nähdään nyt Aleksanterin teatterissa kahtena esityksenä! \nHarakan räkätys kiirii yli Sundin\, kun kirkkoherra ja uusi kihlakunnantuomari lietsovat väestössä kauhua tuntemattoman edessä. Pian seitsemän naista teloitetaan uudesta rikoksesta: liitosta paholaisen kanssa. Lisbeta on musiikin juhlaa\, jossa 1600-luvun noituudesta syytetyt naiset nujertavat viharetoriikan logiikan. \nTekijät: \nLisbeta – Sofie Asplund\, sopraano\nPsilander – Philip Björkqvist\, bassobaritoni\nKjellinus – Joonas Eloranta\, tenori\nKarin – Jenny Carlstedt\, mezzosopraano\nEbba – Therese Karlsson\, sopraano\nPer – Aarne Pelkonen\, baritoni\nHarakka – Veli Kujala\, 1/4-sävelaskelviritteinen harmonikka\nEstonian Sinfonietta \nMusiikki: Karólína Eiríksdóttir\nLibretto: Carina Karlsson ja Ida Kronholm\nKapellimestari: Anna-Maria Helsing\nOhjaus: Ida Kronholm\nKoreografia: Soledad Howe \nEsitykset 21. ja 22.4.2022 \nOSTA LIPUT
URL:https://aarnepelkonen.com/event/lisbeta-ooppera-4/
LOCATION:Aleksanterin Teatteri\, Albertinkatu 32\, Helsinki\, 00180\, Suomi
ATTACH;FMTTYPE=image/jpeg:https://aarnepelkonen.com/wp-content/uploads/2021/06/Lisbeta-1280x720-1.jpg
END:VEVENT
BEGIN:VEVENT
DTSTART;TZID=Europe/Helsinki:20220422T190000
DTEND;TZID=Europe/Helsinki:20220422T210000
DTSTAMP:20260423T160959
CREATED:20220309T132026Z
LAST-MODIFIED:20220331T061831Z
UID:2268-1650654000-1650661200@aarnepelkonen.com
SUMMARY:Lisbeta-ooppera
DESCRIPTION:Lisbeta – noitanaisen älä anna elää on Ahvenanmaan itsehallinnon satavuotisjuhlan kunniaksi sävelletty ooppera naisvihasta ja taikauskosta. Teos sain kantaesityksensä Maarianhaminassa kesällä 2021 ja nähdään nyt Aleksanterin teatterissa kahtena esityksenä! \nHarakan räkätys kiirii yli Sundin\, kun kirkkoherra ja uusi kihlakunnantuomari lietsovat väestössä kauhua tuntemattoman edessä. Pian seitsemän naista teloitetaan uudesta rikoksesta: liitosta paholaisen kanssa. Lisbeta on musiikin juhlaa\, jossa 1600-luvun noituudesta syytetyt naiset nujertavat viharetoriikan logiikan. \nTekijät: \nLisbeta – Sofie Asplund\, sopraano\nPsilander – Philip Björkqvist\, bassobaritoni\nKjellinus – Joonas Eloranta\, tenori\nKarin – Jenny Carlstedt\, mezzosopraano\nEbba – Therese Karlsson\, sopraano\nPer – Aarne Pelkonen\, baritoni\nHarakka – Veli Kujala\, 1/4-sävelaskelviritteinen harmonikka\nEstonian Sinfonietta \nMusiikki: Karólína Eiríksdóttir\nLibretto: Carina Karlsson ja Ida Kronholm\nKapellimestari: Anna-Maria Helsing\nOhjaus: Ida Kronholm\nKoreografia: Soledad Howe \nEsitykset 21. ja 22.4.2022 \nOSTA LIPUT
URL:https://aarnepelkonen.com/event/lisbeta-ooppera-5/
LOCATION:Aleksanterin Teatteri\, Albertinkatu 32\, Helsinki\, 00180\, Suomi
ATTACH;FMTTYPE=image/jpeg:https://aarnepelkonen.com/wp-content/uploads/2021/06/Lisbeta-1280x720-1.jpg
END:VEVENT
BEGIN:VEVENT
DTSTART;TZID=Europe/Helsinki:20220425T190000
DTEND;TZID=Europe/Helsinki:20220425T210000
DTSTAMP:20260423T160959
CREATED:20220309T122519Z
LAST-MODIFIED:20220331T061516Z
UID:2137-1650913200-1650920400@aarnepelkonen.com
SUMMARY:Elämäni lauluja -hyväntekeväisyyskonsertti
DESCRIPTION:Baritoni Aarne Pelkonen ja pianisti Juho Alakärppä ovat tehneet yhteistyötä jo yli 10 vuotta. Tässä hyväntekeväisyyskonsertissa palkittu duo esittää konserttia varten tehdyn monipuolisen ohjelman\, jossa kohdataan sekä kansallisromanttisia klassikoita että viihteellisimpiä säveleitä. Tapahtuman järjestäjänä on Lions Club Rauma Kanali Helme ry. Konsertti liittyy klubin 20-vuotisjuhlavuoteen. Konsertin tuotto ohjataan lasten ja nuorten hyväksi yhteistyökumppanien kautta jaettavaksi. \nAiempaan\, peruttuun 14.2. -päivän konserttiin ostetut liput käyvät uuteen konserttipäivään sellaisenaan. \nKonsertin liput myynnissä Palvelupiste Pyyrmanissa\,\nValtakatu 2 A\,\np. 02-834 5000\npalvelupiste@rauma.fi
URL:https://aarnepelkonen.com/event/elamani-lauluja-hyvantekevaisyyskonsertti/
LOCATION:Rauma-sali\, Satamakatu 26\, 26100
ATTACH;FMTTYPE=image/jpeg:https://aarnepelkonen.com/wp-content/uploads/2022/03/Aarne-rusetti-1280x720-1.jpg
END:VEVENT
BEGIN:VEVENT
DTSTART;TZID=Europe/Helsinki:20220428T190000
DTEND;TZID=Europe/Helsinki:20220428T223000
DTSTAMP:20260423T160959
CREATED:20211011T180857Z
LAST-MODIFIED:20220331T060624Z
UID:1383-1651172400-1651185000@aarnepelkonen.com
SUMMARY:Billy Budd -ooppera
DESCRIPTION:Aarne laulaa Donaldin roolin\, kun Benjamin Brittenin meriaiheinen mestariteos nähdään ensi kertaa Kansallisoopperassa keväällä 2022. Sykähdyttävä toteutus huokuu toisen maailmansodan aikaisen sukellusveneen klaustrofobista tunnelmaa. Näyttävä lavastus ja puvut vievät 1940-luvun Ranskan sotalaivastoon\, jota ohjaavat merimiesten kurinalainen maailma ja sodan väistämättömyys. \nMusiikki: Benjamin Britten\nOhjaus: Annilese Miskimmom\nMusiikinjohto: Hannu Lintu ja Kalle Kuusava \nLUE LISÄÄ JA OSTA LIPUT
URL:https://aarnepelkonen.com/event/billy-budd-ooppera-6/
LOCATION:Suomen Kansallisooppera\, Helsinginkatu 58\, Helsinki\, 00250\, Suomi
ATTACH;FMTTYPE=image/jpeg:https://aarnepelkonen.com/wp-content/uploads/2021/10/BIlly-Budd2-1280x720-1.jpg
END:VEVENT
BEGIN:VEVENT
DTSTART;TZID=Europe/Helsinki:20220430T190000
DTEND;TZID=Europe/Helsinki:20220430T223000
DTSTAMP:20260423T160959
CREATED:20211011T180734Z
LAST-MODIFIED:20220331T060558Z
UID:1380-1651345200-1651357800@aarnepelkonen.com
SUMMARY:Billy Budd -ooppera
DESCRIPTION:Aarne laulaa Donaldin roolin\, kun Benjamin Brittenin meriaiheinen mestariteos nähdään ensi kertaa Kansallisoopperassa keväällä 2022. Sykähdyttävä toteutus huokuu toisen maailmansodan aikaisen sukellusveneen klaustrofobista tunnelmaa. Näyttävä lavastus ja puvut vievät 1940-luvun Ranskan sotalaivastoon\, jota ohjaavat merimiesten kurinalainen maailma ja sodan väistämättömyys. \nMusiikki: Benjamin Britten\nOhjaus: Annilese Miskimmom\nMusiikinjohto: Hannu Lintu ja Kalle Kuusava \nLUE LISÄÄ JA OSTA LIPUT
URL:https://aarnepelkonen.com/event/billy-budd-ooppera-5/
LOCATION:Suomen Kansallisooppera\, Helsinginkatu 58\, Helsinki\, 00250\, Suomi
ATTACH;FMTTYPE=image/jpeg:https://aarnepelkonen.com/wp-content/uploads/2021/10/BIlly-Budd2-1280x720-1.jpg
END:VEVENT
END:VCALENDAR