BEGIN:VCALENDAR
VERSION:2.0
PRODID:-//Aarne Pelkonen - ECPv6.15.20//NONSGML v1.0//EN
CALSCALE:GREGORIAN
METHOD:PUBLISH
X-WR-CALNAME:Aarne Pelkonen
X-ORIGINAL-URL:https://aarnepelkonen.com
X-WR-CALDESC:Tapahtumat Aarne Pelkonen
REFRESH-INTERVAL;VALUE=DURATION:PT1H
X-Robots-Tag:noindex
X-PUBLISHED-TTL:PT1H
BEGIN:VTIMEZONE
TZID:Europe/Helsinki
BEGIN:DAYLIGHT
TZOFFSETFROM:+0200
TZOFFSETTO:+0300
TZNAME:EEST
DTSTART:20210328T010000
END:DAYLIGHT
BEGIN:STANDARD
TZOFFSETFROM:+0300
TZOFFSETTO:+0200
TZNAME:EET
DTSTART:20211031T010000
END:STANDARD
BEGIN:DAYLIGHT
TZOFFSETFROM:+0200
TZOFFSETTO:+0300
TZNAME:EEST
DTSTART:20220327T010000
END:DAYLIGHT
BEGIN:STANDARD
TZOFFSETFROM:+0300
TZOFFSETTO:+0200
TZNAME:EET
DTSTART:20221030T010000
END:STANDARD
BEGIN:DAYLIGHT
TZOFFSETFROM:+0200
TZOFFSETTO:+0300
TZNAME:EEST
DTSTART:20230326T010000
END:DAYLIGHT
BEGIN:STANDARD
TZOFFSETFROM:+0300
TZOFFSETTO:+0200
TZNAME:EET
DTSTART:20231029T010000
END:STANDARD
END:VTIMEZONE
BEGIN:VEVENT
DTSTART;TZID=Europe/Helsinki:20220310T190000
DTEND;TZID=Europe/Helsinki:20220310T203000
DTSTAMP:20260423T173026
CREATED:20220308T103300Z
LAST-MODIFIED:20220331T074222Z
UID:2123-1646938800-1646944200@aarnepelkonen.com
SUMMARY:Tukikonsertti Ukrainalle
DESCRIPTION:ESIINTYJÄT: \nMuusikko Samuli Putro\nMuusikko ILTA\nBaritoni Aarne Pelkonen\nNäyttelijä Seela Sella\nK‍allion Kantaattikuoro\nPiispa Teemu Laajasalo \nLipun hinta oman harkinnan mukaan 1 €–100 €. Voit maksaa lipun lahjoittamalla Kirkon Ulkomaanavulle:\nEnnakkoon MobilePaylla numeroon 44533 tai tekstiviestillä numeroon 16499: APU20 (20€) tai APU50 (50€)\nOvella lipaskeräykseen\, MobilePaylla ja korttimaksulla. \nTervetuloa!
URL:https://aarnepelkonen.com/event/tukikonsertti-ukrainan-hyvaksi/
LOCATION:Kallion kirkko\, Helsinki\, Itäinen Papinkatu 2\, Helsinki\, 00530
ATTACH;FMTTYPE=image/jpeg:https://aarnepelkonen.com/wp-content/uploads/2022/03/Kallio-Ukraina.jpg
END:VEVENT
BEGIN:VEVENT
DTSTART;TZID=Europe/Helsinki:20220329T190000
DTEND;TZID=Europe/Helsinki:20220329T223000
DTSTAMP:20260423T173026
CREATED:20211011T181515Z
LAST-MODIFIED:20220331T073936Z
UID:1398-1648580400-1648593000@aarnepelkonen.com
SUMMARY:Billy Budd -ooppera
DESCRIPTION:Aarne laulaa Donaldin roolin\, kun Benjamin Brittenin meriaiheinen mestariteos nähdään ensi kertaa Kansallisoopperassa keväällä 2022. Sykähdyttävä toteutus huokuu toisen maailmansodan aikaisen sukellusveneen klaustrofobista tunnelmaa. Näyttävä lavastus ja puvut vievät 1940-luvun Ranskan sotalaivastoon\, jota ohjaavat merimiesten kurinalainen maailma ja sodan väistämättömyys. \nMusiikki: Benjamin Britten\nOhjaus: Annilese Miskimmom\nMusiikinjohto: Hannu Lintu ja Kalle Kuusava
URL:https://aarnepelkonen.com/event/billy-budd-ooppera-10/
LOCATION:Suomen Kansallisooppera\, Helsinginkatu 58\, Helsinki\, 00250\, Suomi
ATTACH;FMTTYPE=image/jpeg:https://aarnepelkonen.com/wp-content/uploads/2021/10/BIlly-Budd2-1280x720-1.jpg
END:VEVENT
BEGIN:VEVENT
DTSTART;TZID=Europe/Helsinki:20220331T190000
DTEND;TZID=Europe/Helsinki:20220331T223000
DTSTAMP:20260423T173026
CREATED:20211011T181347Z
LAST-MODIFIED:20220331T060804Z
UID:1394-1648753200-1648765800@aarnepelkonen.com
SUMMARY:Billy Budd -ooppera
DESCRIPTION:Aarne laulaa Donaldin roolin\, kun Benjamin Brittenin meriaiheinen mestariteos nähdään ensi kertaa Kansallisoopperassa keväällä 2022. Sykähdyttävä toteutus huokuu toisen maailmansodan aikaisen sukellusveneen klaustrofobista tunnelmaa. Näyttävä lavastus ja puvut vievät 1940-luvun Ranskan sotalaivastoon\, jota ohjaavat merimiesten kurinalainen maailma ja sodan väistämättömyys. \nMusiikki: Benjamin Britten\nOhjaus: Annilese Miskimmom\nMusiikinjohto: Hannu Lintu ja Kalle Kuusava \nLUE LISÄÄ JA OSTA LIPUT
URL:https://aarnepelkonen.com/event/billy-budd-ooppera-9/
LOCATION:Suomen Kansallisooppera\, Helsinginkatu 58\, Helsinki\, 00250\, Suomi
ATTACH;FMTTYPE=image/jpeg:https://aarnepelkonen.com/wp-content/uploads/2021/10/BIlly-Budd2-1280x720-1.jpg
END:VEVENT
END:VCALENDAR