BEGIN:VCALENDAR
VERSION:2.0
PRODID:-//Aarne Pelkonen - ECPv6.15.20//NONSGML v1.0//EN
CALSCALE:GREGORIAN
METHOD:PUBLISH
X-WR-CALNAME:Aarne Pelkonen
X-ORIGINAL-URL:https://aarnepelkonen.com
X-WR-CALDESC:Tapahtumat Aarne Pelkonen
REFRESH-INTERVAL;VALUE=DURATION:PT1H
X-Robots-Tag:noindex
X-PUBLISHED-TTL:PT1H
BEGIN:VTIMEZONE
TZID:Europe/Helsinki
BEGIN:DAYLIGHT
TZOFFSETFROM:+0200
TZOFFSETTO:+0300
TZNAME:EEST
DTSTART:20230326T010000
END:DAYLIGHT
BEGIN:STANDARD
TZOFFSETFROM:+0300
TZOFFSETTO:+0200
TZNAME:EET
DTSTART:20231029T010000
END:STANDARD
BEGIN:DAYLIGHT
TZOFFSETFROM:+0200
TZOFFSETTO:+0300
TZNAME:EEST
DTSTART:20240331T010000
END:DAYLIGHT
BEGIN:STANDARD
TZOFFSETFROM:+0300
TZOFFSETTO:+0200
TZNAME:EET
DTSTART:20241027T010000
END:STANDARD
BEGIN:DAYLIGHT
TZOFFSETFROM:+0200
TZOFFSETTO:+0300
TZNAME:EEST
DTSTART:20250330T010000
END:DAYLIGHT
BEGIN:STANDARD
TZOFFSETFROM:+0300
TZOFFSETTO:+0200
TZNAME:EET
DTSTART:20251026T010000
END:STANDARD
END:VTIMEZONE
BEGIN:VEVENT
DTSTART;TZID=Europe/Helsinki:20240705T190000
DTEND;TZID=Europe/Helsinki:20240705T210000
DTSTAMP:20260423T014406
CREATED:20240415T093947Z
LAST-MODIFIED:20240415T095243Z
UID:3957-1720206000-1720213200@aarnepelkonen.com
SUMMARY:Last Songs
DESCRIPTION:Last Songs -konsertin keskiössä on Franz Schubertin viimeiseksi jäänyt laulusarja ”Schwanengesang” (Joutsenlaulu). Kahteen osaan jakautuvan laulusarjan väliin\, kommentoimaan rakkauden viiltävää kipua ja kauneutta\, on sijoitettu Jean Sibeliuksen viimeiseksi jäänyt laulukokoelma Op. 90 Runebergin teksteihin sekä hänen viimeisin yksinlaulunsa ”Narciss” . Ohjelma esittelee näin kahden suuren laulusäveltäjän soivan testamentin\, näyttää heidät parhaimmillaan ja paljaimmillaan: kaiken jälkeen jää vain kaipaus\, ”Sehnsucht”\, ”längtan”. \nDuo Aarne Pelkonen ja Juho Alakärppä on työskennellyt menestyksekkäästi jo yli 15 vuoden ajan. Aarnen ja Juhon yhteistyö alkoi Sibelius-Akatemian käytävillä\, jatkui Keski-Euroopassa alan gurujen opissa ja on johtanut esiintymisiin Suomessa ja ulkomailla\, keskeistä laulurepertuaaria laajasti esitellen. Palkintoja parivaljakko on kerännyt mm. kansainvälisistä liedkilpailuista Berliinissä ja Enschedessä. \nKeväällä 2023 julkaistu ”Last Songs” on Pelkosen ja Alakärpän ensimmäinen duolevy. \nLue lisää & liput
URL:https://aarnepelkonen.com/event/last-songs-4/
LOCATION:Hauhon kirkko\, Danielson Kalmarintie 1\, Hauho\, 14700\, Suomi
ATTACH;FMTTYPE=image/jpeg:https://aarnepelkonen.com/wp-content/uploads/2023/02/Duo-uusi-1280x720-1.jpg
END:VEVENT
END:VCALENDAR