BEGIN:VCALENDAR
VERSION:2.0
PRODID:-//Aarne Pelkonen - ECPv6.15.20//NONSGML v1.0//EN
CALSCALE:GREGORIAN
METHOD:PUBLISH
X-WR-CALNAME:Aarne Pelkonen
X-ORIGINAL-URL:https://aarnepelkonen.com
X-WR-CALDESC:Tapahtumat Aarne Pelkonen
REFRESH-INTERVAL;VALUE=DURATION:PT1H
X-Robots-Tag:noindex
X-PUBLISHED-TTL:PT1H
BEGIN:VTIMEZONE
TZID:Europe/Helsinki
BEGIN:DAYLIGHT
TZOFFSETFROM:+0200
TZOFFSETTO:+0300
TZNAME:EEST
DTSTART:20230326T010000
END:DAYLIGHT
BEGIN:STANDARD
TZOFFSETFROM:+0300
TZOFFSETTO:+0200
TZNAME:EET
DTSTART:20231029T010000
END:STANDARD
BEGIN:DAYLIGHT
TZOFFSETFROM:+0200
TZOFFSETTO:+0300
TZNAME:EEST
DTSTART:20240331T010000
END:DAYLIGHT
BEGIN:STANDARD
TZOFFSETFROM:+0300
TZOFFSETTO:+0200
TZNAME:EET
DTSTART:20241027T010000
END:STANDARD
BEGIN:DAYLIGHT
TZOFFSETFROM:+0200
TZOFFSETTO:+0300
TZNAME:EEST
DTSTART:20250330T010000
END:DAYLIGHT
BEGIN:STANDARD
TZOFFSETFROM:+0300
TZOFFSETTO:+0200
TZNAME:EET
DTSTART:20251026T010000
END:STANDARD
END:VTIMEZONE
BEGIN:VEVENT
DTSTART;TZID=Europe/Helsinki:20240209T190000
DTEND;TZID=Europe/Helsinki:20240209T213000
DTSTAMP:20260423T072048
CREATED:20240103T182823Z
LAST-MODIFIED:20240103T183809Z
UID:3909-1707505200-1707514200@aarnepelkonen.com
SUMMARY:Bach: H-mollimessu
DESCRIPTION:Johann Sebastian Bachin (1686–1750) uran loppupuolen järkälemäistä mestariteosta eli h-molli-messua on sen suuresta suosiosta huolimatta esitetty Varsinais-Suomessa erittäin harvoin. Nyt messu kuullaan Key Ensemblen ja Suomalaisen barokkiorkesterin yhteistyönä. \nSävellystä pidetään usein Bachin musiikillisena testamenttina. Messusta löytyy teemoja Bachin aiemmista teoksista\, sillä sitä ei ole sävelletty yhdellä kertaa. H-molli-messu eroaa Bachin kirkkomusiikiksi säveltämistä passioista. Teos mukailee katolisen kirkon messua ja on sävelletty latinankieliseen tekstiin.  \nKey Ensemble\nSuomalainen barokkiorkesteri\nMinna Nyberg\, sopraano\nEssi Luttinen\, altto\nAarne Mansikka\, tenori\nAarne Pelkonen\, basso\nJutta Seppinen\, johtaja \nKesto: 2 t 30 min (sis. väliajan) \nLue lisää & liput
URL:https://aarnepelkonen.com/event/bach-h-mollimessu/
LOCATION:Turun tuomiokirkko\, Tuomiokirkonkatu 1\, Turku\, 20500\, Suomi
ATTACH;FMTTYPE=image/jpeg:https://aarnepelkonen.com/wp-content/uploads/2023/03/Aarne2-1280x720-1.jpg
END:VEVENT
END:VCALENDAR