BEGIN:VCALENDAR
VERSION:2.0
PRODID:-//Aarne Pelkonen - ECPv6.15.20//NONSGML v1.0//EN
CALSCALE:GREGORIAN
METHOD:PUBLISH
X-WR-CALNAME:Aarne Pelkonen
X-ORIGINAL-URL:https://aarnepelkonen.com
X-WR-CALDESC:Tapahtumat Aarne Pelkonen
REFRESH-INTERVAL;VALUE=DURATION:PT1H
X-Robots-Tag:noindex
X-PUBLISHED-TTL:PT1H
BEGIN:VTIMEZONE
TZID:Europe/Helsinki
BEGIN:DAYLIGHT
TZOFFSETFROM:+0200
TZOFFSETTO:+0300
TZNAME:EEST
DTSTART:20230326T010000
END:DAYLIGHT
BEGIN:STANDARD
TZOFFSETFROM:+0300
TZOFFSETTO:+0200
TZNAME:EET
DTSTART:20231029T010000
END:STANDARD
BEGIN:DAYLIGHT
TZOFFSETFROM:+0200
TZOFFSETTO:+0300
TZNAME:EEST
DTSTART:20240331T010000
END:DAYLIGHT
BEGIN:STANDARD
TZOFFSETFROM:+0300
TZOFFSETTO:+0200
TZNAME:EET
DTSTART:20241027T010000
END:STANDARD
BEGIN:DAYLIGHT
TZOFFSETFROM:+0200
TZOFFSETTO:+0300
TZNAME:EEST
DTSTART:20250330T010000
END:DAYLIGHT
BEGIN:STANDARD
TZOFFSETFROM:+0300
TZOFFSETTO:+0200
TZNAME:EET
DTSTART:20251026T010000
END:STANDARD
END:VTIMEZONE
BEGIN:VEVENT
DTSTART;TZID=Europe/Helsinki:20240207T180000
DTEND;TZID=Europe/Helsinki:20240207T200000
DTSTAMP:20260423T072016
CREATED:20240103T183513Z
LAST-MODIFIED:20240103T183513Z
UID:3912-1707328800-1707336000@aarnepelkonen.com
SUMMARY:Naisten pankki: Musiikkia & muotia
DESCRIPTION:Tervetuloa nauttimaan helmikuisesta illasta baritoni Aarne Pelkosen musiikin ja upean muotinäytöksen avulla Ravintola Suomalaiselle Pohjalle. Pianistina Juho Alakärppä. \nLiput 35 e sisältäen ohjelman ja iltapalan. Tapatuman tuotto ohjataan Naisten Pankin hyväksi. \nLue lisää
URL:https://aarnepelkonen.com/event/naisten-pankki-musiikkia-muotia/
LOCATION:Ravintola Suomalainen Pohja\, Aurakatu 24 A\, Turku\, 20100
ATTACH;FMTTYPE=image/jpeg:https://aarnepelkonen.com/wp-content/uploads/2023/06/Duokuva-1280-720.jpg
END:VEVENT
END:VCALENDAR