BEGIN:VCALENDAR
VERSION:2.0
PRODID:-//Aarne Pelkonen - ECPv6.15.20//NONSGML v1.0//EN
CALSCALE:GREGORIAN
METHOD:PUBLISH
X-ORIGINAL-URL:https://aarnepelkonen.com
X-WR-CALDESC:Tapahtumat Aarne Pelkonen
REFRESH-INTERVAL;VALUE=DURATION:PT1H
X-Robots-Tag:noindex
X-PUBLISHED-TTL:PT1H
BEGIN:VTIMEZONE
TZID:Europe/Helsinki
BEGIN:DAYLIGHT
TZOFFSETFROM:+0200
TZOFFSETTO:+0300
TZNAME:EEST
DTSTART:20230326T010000
END:DAYLIGHT
BEGIN:STANDARD
TZOFFSETFROM:+0300
TZOFFSETTO:+0200
TZNAME:EET
DTSTART:20231029T010000
END:STANDARD
BEGIN:DAYLIGHT
TZOFFSETFROM:+0200
TZOFFSETTO:+0300
TZNAME:EEST
DTSTART:20240331T010000
END:DAYLIGHT
BEGIN:STANDARD
TZOFFSETFROM:+0300
TZOFFSETTO:+0200
TZNAME:EET
DTSTART:20241027T010000
END:STANDARD
BEGIN:DAYLIGHT
TZOFFSETFROM:+0200
TZOFFSETTO:+0300
TZNAME:EEST
DTSTART:20250330T010000
END:DAYLIGHT
BEGIN:STANDARD
TZOFFSETFROM:+0300
TZOFFSETTO:+0200
TZNAME:EET
DTSTART:20251026T010000
END:STANDARD
END:VTIMEZONE
BEGIN:VEVENT
DTSTART;TZID=Europe/Helsinki:20240107T190000
DTEND;TZID=Europe/Helsinki:20240107T210000
DTSTAMP:20260423T055300
CREATED:20231022T195422Z
LAST-MODIFIED:20231022T195504Z
UID:3670-1704654000-1704661200@aarnepelkonen.com
SUMMARY:Bach: Jouluoratorio - Cantores Minores
DESCRIPTION:Musiikkitalon uusien urkujen avajaisviikko huipentuu J. S. Bachin jouluoratorioon\, jonka esittävät Cantores Minores Hannu Norjasen johdolla. Teoksen orkesteriosuus kuullaan kahden urkurin\, Ilpo Laspaksen ja Irina Vavilovan\, soittamana kahdella soittopöydällä. \nJohann Sebastian Bach: Jouluoratorio\, kantaatit 1\, 4–6 \nCantores Minores\nHannu Norjanen\, musiikinjohto\nJohanna Isokoski\, sopraano\nRuut Mattila\, altto\nJohan Krogius\, tenori\nAarne Pelkonen\, basso \nIlpo Laspas ja Irina Vavilova\, urut \nLue lisää & liput
URL:https://aarnepelkonen.com/event/bach-jouluoratorio-cantores-minores/
LOCATION:Helsingin Musiikkitalo\, Mannerheimintie 13 A\, Helsinki\, 00100
ATTACH;FMTTYPE=image/jpeg:https://aarnepelkonen.com/wp-content/uploads/2023/03/Aarne2-1280x720-1.jpg
END:VEVENT
END:VCALENDAR