BEGIN:VCALENDAR
VERSION:2.0
PRODID:-//Aarne Pelkonen - ECPv6.15.20//NONSGML v1.0//EN
CALSCALE:GREGORIAN
METHOD:PUBLISH
X-ORIGINAL-URL:https://aarnepelkonen.com
X-WR-CALDESC:Tapahtumat Aarne Pelkonen
REFRESH-INTERVAL;VALUE=DURATION:PT1H
X-Robots-Tag:noindex
X-PUBLISHED-TTL:PT1H
BEGIN:VTIMEZONE
TZID:Europe/Helsinki
BEGIN:DAYLIGHT
TZOFFSETFROM:+0200
TZOFFSETTO:+0300
TZNAME:EEST
DTSTART:20220327T010000
END:DAYLIGHT
BEGIN:STANDARD
TZOFFSETFROM:+0300
TZOFFSETTO:+0200
TZNAME:EET
DTSTART:20221030T010000
END:STANDARD
BEGIN:DAYLIGHT
TZOFFSETFROM:+0200
TZOFFSETTO:+0300
TZNAME:EEST
DTSTART:20230326T010000
END:DAYLIGHT
BEGIN:STANDARD
TZOFFSETFROM:+0300
TZOFFSETTO:+0200
TZNAME:EET
DTSTART:20231029T010000
END:STANDARD
BEGIN:DAYLIGHT
TZOFFSETFROM:+0200
TZOFFSETTO:+0300
TZNAME:EEST
DTSTART:20240331T010000
END:DAYLIGHT
BEGIN:STANDARD
TZOFFSETFROM:+0300
TZOFFSETTO:+0200
TZNAME:EET
DTSTART:20241027T010000
END:STANDARD
END:VTIMEZONE
BEGIN:VEVENT
DTSTART;TZID=Europe/Helsinki:20231215T190000
DTEND;TZID=Europe/Helsinki:20231215T210000
DTSTAMP:20260423T042158
CREATED:20230912T175440Z
LAST-MODIFIED:20230912T175539Z
UID:3631-1702666800-1702674000@aarnepelkonen.com
SUMMARY:Saimaa Sinfonietta - Joulukonsertti
DESCRIPTION:Ohjelmassa kauneimmat\, perinteiset suomalaiset joululaulut. \nto 14.12. Lappeenranta-sali klo 19\npe 15.12. Martti Talvela -sali\, Mikkeli\, klo 19\nJohtaa Erkki Lasonpalo\nMari Palo\, sopraano ja Aarne Pelkonen\, baritoni \nSopraano Mari Palo on yksi monipuolisimmista sopraanoista\, joka on kotonaan niin oopperalavoilla kuin orkesterien solistina. Samoin Baritoni Aarne Pelkonen on nuoren polven kysytyimpiä ooppera- ja konserttilaulajia\, joka muistetaan mm. vuoden 2013 Lappeenrannan laulukilpailujen voittajana. \nKonsertin kesto n. 2 tuntia sisältäen väliajan. \nLue lisää & liput
URL:https://aarnepelkonen.com/event/saimaa-sinfonietta-joulukonsertti-2/
LOCATION:Konserttitalo Mikaeli\, Sointukatu 1\, Mikkeli\, 50100
ATTACH;FMTTYPE=image/jpeg:https://aarnepelkonen.com/wp-content/uploads/2023/09/Mari-ja-Aarne-1280x720-1.jpg
END:VEVENT
END:VCALENDAR