BEGIN:VCALENDAR
VERSION:2.0
PRODID:-//Aarne Pelkonen - ECPv6.15.20//NONSGML v1.0//EN
CALSCALE:GREGORIAN
METHOD:PUBLISH
X-WR-CALNAME:Aarne Pelkonen
X-ORIGINAL-URL:https://aarnepelkonen.com
X-WR-CALDESC:Tapahtumat Aarne Pelkonen
REFRESH-INTERVAL;VALUE=DURATION:PT1H
X-Robots-Tag:noindex
X-PUBLISHED-TTL:PT1H
BEGIN:VTIMEZONE
TZID:Europe/Helsinki
BEGIN:DAYLIGHT
TZOFFSETFROM:+0200
TZOFFSETTO:+0300
TZNAME:EEST
DTSTART:20220327T010000
END:DAYLIGHT
BEGIN:STANDARD
TZOFFSETFROM:+0300
TZOFFSETTO:+0200
TZNAME:EET
DTSTART:20221030T010000
END:STANDARD
BEGIN:DAYLIGHT
TZOFFSETFROM:+0200
TZOFFSETTO:+0300
TZNAME:EEST
DTSTART:20230326T010000
END:DAYLIGHT
BEGIN:STANDARD
TZOFFSETFROM:+0300
TZOFFSETTO:+0200
TZNAME:EET
DTSTART:20231029T010000
END:STANDARD
BEGIN:DAYLIGHT
TZOFFSETFROM:+0200
TZOFFSETTO:+0300
TZNAME:EEST
DTSTART:20240331T010000
END:DAYLIGHT
BEGIN:STANDARD
TZOFFSETFROM:+0300
TZOFFSETTO:+0200
TZNAME:EET
DTSTART:20241027T010000
END:STANDARD
END:VTIMEZONE
BEGIN:VEVENT
DTSTART;TZID=Europe/Helsinki:20231208T140000
DTEND;TZID=Europe/Helsinki:20231208T160000
DTSTAMP:20260423T042516
CREATED:20230912T173324Z
LAST-MODIFIED:20230912T174202Z
UID:3621-1702044000-1702051200@aarnepelkonen.com
SUMMARY:TFO: Rakas joulu
DESCRIPTION:Aarne julkaisee tänä jouluna Rakas joulu -nimisen joululevyn yhdessä Turun filharmonisen orkesterin kanssa. Levyn ohjelmisto kuullaan Turun konserttitalossa kahdessa konsertissa 7.12. klo 19 ja 8.12. klo 14\, kun Aarne saapuu TFO:n solistiksi. \nJouluna 2022 Turun filharmoninen orkesteri ja Aarne Pelkonen julkaisivat Sydämeeni joulun teen -singlen\, joka sai kriitikoilta erinomaiset arviot. Tämän ja monien muiden rakastettujen joululaulujen lisäksi Rakas joulu -julkaisukonsertti sisältää tunnelmallisia orkesterisovituksia sekä kaksi aivan uutta laulua\, joista toinen on Aarnen oma sävellys Talvilaulu. \nAarne Pelkonen\, baritoni\nJutta Seppinen\, kapellimestari\nTurun filharmoninen orkesteri \nLue lisää & liput
URL:https://aarnepelkonen.com/event/tfo-rakas-joulu-2/
LOCATION:Turun konserttitalo\, Aninkaistenkatu 9\, Turku\, 20100
ATTACH;FMTTYPE=image/jpeg:https://aarnepelkonen.com/wp-content/uploads/2023/09/Rakas-joulu-1280x720-1.jpg
END:VEVENT
END:VCALENDAR