BEGIN:VCALENDAR
VERSION:2.0
PRODID:-//Aarne Pelkonen - ECPv6.15.20//NONSGML v1.0//EN
CALSCALE:GREGORIAN
METHOD:PUBLISH
X-WR-CALNAME:Aarne Pelkonen
X-ORIGINAL-URL:https://aarnepelkonen.com
X-WR-CALDESC:Tapahtumat Aarne Pelkonen
REFRESH-INTERVAL;VALUE=DURATION:PT1H
X-Robots-Tag:noindex
X-PUBLISHED-TTL:PT1H
BEGIN:VTIMEZONE
TZID:Europe/Helsinki
BEGIN:DAYLIGHT
TZOFFSETFROM:+0200
TZOFFSETTO:+0300
TZNAME:EEST
DTSTART:20220327T010000
END:DAYLIGHT
BEGIN:STANDARD
TZOFFSETFROM:+0300
TZOFFSETTO:+0200
TZNAME:EET
DTSTART:20221030T010000
END:STANDARD
BEGIN:DAYLIGHT
TZOFFSETFROM:+0200
TZOFFSETTO:+0300
TZNAME:EEST
DTSTART:20230326T010000
END:DAYLIGHT
BEGIN:STANDARD
TZOFFSETFROM:+0300
TZOFFSETTO:+0200
TZNAME:EET
DTSTART:20231029T010000
END:STANDARD
BEGIN:DAYLIGHT
TZOFFSETFROM:+0200
TZOFFSETTO:+0300
TZNAME:EEST
DTSTART:20240331T010000
END:DAYLIGHT
BEGIN:STANDARD
TZOFFSETFROM:+0300
TZOFFSETTO:+0200
TZNAME:EET
DTSTART:20241027T010000
END:STANDARD
END:VTIMEZONE
BEGIN:VEVENT
DTSTART;VALUE=DATE:20231117
DTEND;VALUE=DATE:20231118
DTSTAMP:20260423T030740
CREATED:20231012T204637Z
LAST-MODIFIED:20231012T205741Z
UID:3639-1700179200-1700265599@aarnepelkonen.com
SUMMARY:Apua someen! -verkkokurssi
DESCRIPTION:Tarvitseko apua somen käytössä? Kaipaatko neuvoja siihen\, minkälaista sisältöä\, milloin ja missä muodossa kannattaisi julkaista? Ei hätää\, Aarne auttaa! \nApua someen! -verkkokurssi on tarkoitettu erityisesti niille\, jotka käyttävät somea työssään\, eli vaikkapa muusikoille ja muille taiteilijoille sekä organisaatioille kuten musiikkifestivaaleille. \nTeemoina kurssilla ovat myös yritys- ja mainostilien käyttö sekä somemarkkinointi ylipäänsä. Käytännön asioiden ohella pohditaan myös laajempia kysymyksiä\, kuten minkälaisen profiilin haluat itsestäsi tai organisaatiostasi someen luoda tai miten tavoittaa juuri haluamansa kohderyhmä.  \nJos olet kiinnostunut kurssista\, lähetä minulle sähköpostia: contact(at)aarnepelkonen.com. ​Samalla voit kertoa\, mihin asioihin kaipaisit apua\, jotta voin kurssilla vastata juuri oikeisiin kysymyksiin. \nKurssi julkaistaan verkkokurssina 17.11. Kurssista ja siihen osallistumisesta tulee tietoa Aarnen Instagram ja Facebook -tileille sekä tälle sivulle. \nTervetuloa mukaan! \n– Aarne
URL:https://aarnepelkonen.com/event/apua-someen-verkkokurssi/
ATTACH;FMTTYPE=image/jpeg:https://aarnepelkonen.com/wp-content/uploads/2023/10/Aarne-vihrea-1280x720-1.jpg
END:VEVENT
END:VCALENDAR