BEGIN:VCALENDAR
VERSION:2.0
PRODID:-//Aarne Pelkonen - ECPv6.15.20//NONSGML v1.0//EN
CALSCALE:GREGORIAN
METHOD:PUBLISH
X-WR-CALNAME:Aarne Pelkonen
X-ORIGINAL-URL:https://aarnepelkonen.com
X-WR-CALDESC:Tapahtumat Aarne Pelkonen
REFRESH-INTERVAL;VALUE=DURATION:PT1H
X-Robots-Tag:noindex
X-PUBLISHED-TTL:PT1H
BEGIN:VTIMEZONE
TZID:Europe/Helsinki
BEGIN:DAYLIGHT
TZOFFSETFROM:+0200
TZOFFSETTO:+0300
TZNAME:EEST
DTSTART:20220327T010000
END:DAYLIGHT
BEGIN:STANDARD
TZOFFSETFROM:+0300
TZOFFSETTO:+0200
TZNAME:EET
DTSTART:20221030T010000
END:STANDARD
BEGIN:DAYLIGHT
TZOFFSETFROM:+0200
TZOFFSETTO:+0300
TZNAME:EEST
DTSTART:20230326T010000
END:DAYLIGHT
BEGIN:STANDARD
TZOFFSETFROM:+0300
TZOFFSETTO:+0200
TZNAME:EET
DTSTART:20231029T010000
END:STANDARD
BEGIN:DAYLIGHT
TZOFFSETFROM:+0200
TZOFFSETTO:+0300
TZNAME:EEST
DTSTART:20240331T010000
END:DAYLIGHT
BEGIN:STANDARD
TZOFFSETFROM:+0300
TZOFFSETTO:+0200
TZNAME:EET
DTSTART:20241027T010000
END:STANDARD
END:VTIMEZONE
BEGIN:VEVENT
DTSTART;TZID=Europe/Helsinki:20231102T190000
DTEND;TZID=Europe/Helsinki:20231102T220000
DTSTAMP:20260423T014407
CREATED:20231022T194324Z
LAST-MODIFIED:20231022T194940Z
UID:3648-1698951600-1698962400@aarnepelkonen.com
SUMMARY:Madama Butterfly
DESCRIPTION:Amerikkalainen upseeri Pinkerton ostaa Japanin-komennuksellaan itselleen vaimon. Järjestelyn tilapäisyydestä huolimatta Cio-Cio San rakastuu Pinkertoniin. Pinkerton palaa kotimaahansa\, ja Cio-Cio San jää odottamaan hänen paluutaan. Kun vuosien jälkeen laiva lopulta saapuu\, Cio-Cio San joutuu pettymään. \nMadama Butterfly on ooppera\, joka särkee sydämesi. Säveltäjämestari Giacomo Puccini (1858–1924) vuodatti rakkaudesta ja pettymyksestä kertovaan tragediaan kaikkein koskettavinta musiikkiaan. Näkemyksellisesti ohjattu ooppera sopii myös ensikertalaisille. Luvassa on rakkautta\, kaipausta ja kyyneliä. \nLue lisää & liput
URL:https://aarnepelkonen.com/event/madama-butterfly/
LOCATION:Suomen Kansallisooppera\, Helsinginkatu 58\, Helsinki\, 00250\, Suomi
ATTACH;FMTTYPE=image/jpeg:https://aarnepelkonen.com/wp-content/uploads/2023/10/butterfly.jpg
END:VEVENT
END:VCALENDAR