BEGIN:VCALENDAR
VERSION:2.0
PRODID:-//Aarne Pelkonen - ECPv6.15.20//NONSGML v1.0//EN
CALSCALE:GREGORIAN
METHOD:PUBLISH
X-ORIGINAL-URL:https://aarnepelkonen.com
X-WR-CALDESC:Tapahtumat Aarne Pelkonen
REFRESH-INTERVAL;VALUE=DURATION:PT1H
X-Robots-Tag:noindex
X-PUBLISHED-TTL:PT1H
BEGIN:VTIMEZONE
TZID:Europe/Helsinki
BEGIN:DAYLIGHT
TZOFFSETFROM:+0200
TZOFFSETTO:+0300
TZNAME:EEST
DTSTART:20220327T010000
END:DAYLIGHT
BEGIN:STANDARD
TZOFFSETFROM:+0300
TZOFFSETTO:+0200
TZNAME:EET
DTSTART:20221030T010000
END:STANDARD
BEGIN:DAYLIGHT
TZOFFSETFROM:+0200
TZOFFSETTO:+0300
TZNAME:EEST
DTSTART:20230326T010000
END:DAYLIGHT
BEGIN:STANDARD
TZOFFSETFROM:+0300
TZOFFSETTO:+0200
TZNAME:EET
DTSTART:20231029T010000
END:STANDARD
BEGIN:DAYLIGHT
TZOFFSETFROM:+0200
TZOFFSETTO:+0300
TZNAME:EEST
DTSTART:20240331T010000
END:DAYLIGHT
BEGIN:STANDARD
TZOFFSETFROM:+0300
TZOFFSETTO:+0200
TZNAME:EET
DTSTART:20241027T010000
END:STANDARD
END:VTIMEZONE
BEGIN:VEVENT
DTSTART;TZID=Europe/Helsinki:20230806T200000
DTEND;TZID=Europe/Helsinki:20230806T210000
DTSTAMP:20260422T220053
CREATED:20230619T110840Z
LAST-MODIFIED:20230619T111402Z
UID:3546-1691352000-1691355600@aarnepelkonen.com
SUMMARY:Virsi-juhlakonsertti
DESCRIPTION:Aarnen ensimmäinen levy Virsi täyttää tänä vuonna 10 vuotta. Ensimmäinen levyn juhlakonsertti kuullaan Teljän kirkossa 6.8. klo 20. Pianistina Juho Alakärppä. \nLue lisää
URL:https://aarnepelkonen.com/event/virsi-juhlakonsertti/
LOCATION:Porin Teljän kirkko\, Koivistonpuistikko 50\, Pori\, 28130
ATTACH;FMTTYPE=image/jpeg:https://aarnepelkonen.com/wp-content/uploads/2023/06/Duokuva-1280-720.jpg
END:VEVENT
END:VCALENDAR