BEGIN:VCALENDAR
VERSION:2.0
PRODID:-//Aarne Pelkonen - ECPv6.15.20//NONSGML v1.0//EN
CALSCALE:GREGORIAN
METHOD:PUBLISH
X-ORIGINAL-URL:https://aarnepelkonen.com
X-WR-CALDESC:Tapahtumat Aarne Pelkonen
REFRESH-INTERVAL;VALUE=DURATION:PT1H
X-Robots-Tag:noindex
X-PUBLISHED-TTL:PT1H
BEGIN:VTIMEZONE
TZID:Europe/Helsinki
BEGIN:DAYLIGHT
TZOFFSETFROM:+0200
TZOFFSETTO:+0300
TZNAME:EEST
DTSTART:20220327T010000
END:DAYLIGHT
BEGIN:STANDARD
TZOFFSETFROM:+0300
TZOFFSETTO:+0200
TZNAME:EET
DTSTART:20221030T010000
END:STANDARD
BEGIN:DAYLIGHT
TZOFFSETFROM:+0200
TZOFFSETTO:+0300
TZNAME:EEST
DTSTART:20230326T010000
END:DAYLIGHT
BEGIN:STANDARD
TZOFFSETFROM:+0300
TZOFFSETTO:+0200
TZNAME:EET
DTSTART:20231029T010000
END:STANDARD
BEGIN:DAYLIGHT
TZOFFSETFROM:+0200
TZOFFSETTO:+0300
TZNAME:EEST
DTSTART:20240331T010000
END:DAYLIGHT
BEGIN:STANDARD
TZOFFSETFROM:+0300
TZOFFSETTO:+0200
TZNAME:EET
DTSTART:20241027T010000
END:STANDARD
END:VTIMEZONE
BEGIN:VEVENT
DTSTART;TZID=Europe/Helsinki:20230611T130000
DTEND;TZID=Europe/Helsinki:20230611T153000
DTSTAMP:20260422T231309
CREATED:20221117T211302Z
LAST-MODIFIED:20221117T211808Z
UID:3271-1686488400-1686497400@aarnepelkonen.com
SUMMARY:Armi-ooppera
DESCRIPTION:Aarne laulaa Armi Ratian aviomiehen\, Viljo Ratian roolin Ilmajoen Musiikkijuhlien uudessa Armi-oopperassa 8.-18.6.2023  \nArmi Ratian tarina on täynnä legendaarisia Marimekko-kaskuja\, juhlia\, menestyksen aallonharjaa ja vastapainona suurta epätoivoa\, pettymyksiä\, vihaa sekä taistelua rakkauden saamisesta ja antamisesta. Ooppera luo muotokuvan\, jossa vahvana tunnettu nainen yrittää asettua itsensä kokoiseen muottiin\, ​siinä kuitenkaan onnistumatta. Nimiroolin laulaa mezzosopraano Lilli Paasikivi.  \nSävellys: Eeva Kontu\nLiberetto ja ohjaus: Heta Haanperä\nMusiikinjohto: Kaapo Ijas\nRooleissa: Lilli Paasikivi\, Minna-Leena Lahti\, Aarne Pelkonen\, Piia Komsi\, Mari Palo\, Jeni Packalén\, Tuomas Miettola\, Nicholas Söderlund \nLue lisää & liput\n 
URL:https://aarnepelkonen.com/event/armi-ooppera-4/
LOCATION:Ilmajoen Ooppera-areena\, Ollilantie 1\, Ilmajoki\, 60800\, Suomi
ATTACH;FMTTYPE=image/jpeg:https://aarnepelkonen.com/wp-content/uploads/2022/11/Armi-mainos.jpg
END:VEVENT
END:VCALENDAR