BEGIN:VCALENDAR
VERSION:2.0
PRODID:-//Aarne Pelkonen - ECPv6.15.20//NONSGML v1.0//EN
CALSCALE:GREGORIAN
METHOD:PUBLISH
X-WR-CALNAME:Aarne Pelkonen
X-ORIGINAL-URL:https://aarnepelkonen.com
X-WR-CALDESC:Tapahtumat Aarne Pelkonen
REFRESH-INTERVAL;VALUE=DURATION:PT1H
X-Robots-Tag:noindex
X-PUBLISHED-TTL:PT1H
BEGIN:VTIMEZONE
TZID:Europe/Helsinki
BEGIN:DAYLIGHT
TZOFFSETFROM:+0200
TZOFFSETTO:+0300
TZNAME:EEST
DTSTART:20220327T010000
END:DAYLIGHT
BEGIN:STANDARD
TZOFFSETFROM:+0300
TZOFFSETTO:+0200
TZNAME:EET
DTSTART:20221030T010000
END:STANDARD
BEGIN:DAYLIGHT
TZOFFSETFROM:+0200
TZOFFSETTO:+0300
TZNAME:EEST
DTSTART:20230326T010000
END:DAYLIGHT
BEGIN:STANDARD
TZOFFSETFROM:+0300
TZOFFSETTO:+0200
TZNAME:EET
DTSTART:20231029T010000
END:STANDARD
BEGIN:DAYLIGHT
TZOFFSETFROM:+0200
TZOFFSETTO:+0300
TZNAME:EEST
DTSTART:20240331T010000
END:DAYLIGHT
BEGIN:STANDARD
TZOFFSETFROM:+0300
TZOFFSETTO:+0200
TZNAME:EET
DTSTART:20241027T010000
END:STANDARD
END:VTIMEZONE
BEGIN:VEVENT
DTSTART;TZID=Europe/Helsinki:20230430T190000
DTEND;TZID=Europe/Helsinki:20230430T210000
DTSTAMP:20260423T014408
CREATED:20230308T091326Z
LAST-MODIFIED:20230308T091837Z
UID:3429-1682881200-1682888400@aarnepelkonen.com
SUMMARY:Vapun riemua - Kymi sinfonietta
DESCRIPTION:Kymi Sinfoniettan vappukonserteissa juhlistetaan kevään tuloa hyväntuulisen musiikin ja huippuesiintyjien voimin! Iloista vapputunnelmaa ovat virittämässä nuoren polven kapellimestari Sauli Saarinen\, kymenlaaksolaisyleisölle tuttu sopraano Marika Hölttä ja baritoni Aarne Pelkonen. Konserteissa soivat vapun hilpeät viihdesävelet\, kevyet klassiset sekä tunnelmalliset ikivihreät\, elokuva- ja musikaalimusiikkia unohtamatta. Koloratuurisopraano Marika Hölttä on tunnettu monipuolisuudestaan sekä lavaheittäytymisestään. Baritoni Aarne Pelkonen muistetaan mm. vuoden 2013 Lappeenrannan laulukilpailujen ja vuoden 2015 kansainvälisen Sibelius-laulukilpailun voittajana. \nKapellimestari Sauli Saarinen \nMarika Hölttä\, sopraano \nAarne Pelkonen\, baritoni \nLue lisää & liput
URL:https://aarnepelkonen.com/event/vapun-riemua-kymi-sinfonietta/
LOCATION:Kotkan konserttitalo\, Keskuskatu 33\, Kotka\, 48100\, Suomi
ATTACH;FMTTYPE=image/jpeg:https://aarnepelkonen.com/wp-content/uploads/2023/03/Aarne2-1280x720-1.jpg
END:VEVENT
END:VCALENDAR