BEGIN:VCALENDAR
VERSION:2.0
PRODID:-//Aarne Pelkonen - ECPv6.15.20//NONSGML v1.0//EN
CALSCALE:GREGORIAN
METHOD:PUBLISH
X-WR-CALNAME:Aarne Pelkonen
X-ORIGINAL-URL:https://aarnepelkonen.com
X-WR-CALDESC:Tapahtumat Aarne Pelkonen
REFRESH-INTERVAL;VALUE=DURATION:PT1H
X-Robots-Tag:noindex
X-PUBLISHED-TTL:PT1H
BEGIN:VTIMEZONE
TZID:Europe/Helsinki
BEGIN:DAYLIGHT
TZOFFSETFROM:+0200
TZOFFSETTO:+0300
TZNAME:EEST
DTSTART:20220327T010000
END:DAYLIGHT
BEGIN:STANDARD
TZOFFSETFROM:+0300
TZOFFSETTO:+0200
TZNAME:EET
DTSTART:20221030T010000
END:STANDARD
BEGIN:DAYLIGHT
TZOFFSETFROM:+0200
TZOFFSETTO:+0300
TZNAME:EEST
DTSTART:20230326T010000
END:DAYLIGHT
BEGIN:STANDARD
TZOFFSETFROM:+0300
TZOFFSETTO:+0200
TZNAME:EET
DTSTART:20231029T010000
END:STANDARD
BEGIN:DAYLIGHT
TZOFFSETFROM:+0200
TZOFFSETTO:+0300
TZNAME:EEST
DTSTART:20240331T010000
END:DAYLIGHT
BEGIN:STANDARD
TZOFFSETFROM:+0300
TZOFFSETTO:+0200
TZNAME:EET
DTSTART:20241027T010000
END:STANDARD
END:VTIMEZONE
BEGIN:VEVENT
DTSTART;TZID=Europe/Helsinki:20230427T190000
DTEND;TZID=Europe/Helsinki:20230427T210000
DTSTAMP:20260423T014407
CREATED:20230203T160142Z
LAST-MODIFIED:20230302T192511Z
UID:3363-1682622000-1682629200@aarnepelkonen.com
SUMMARY:Last Songs -levynjulkaisukonsertti
DESCRIPTION:Last Songs -levynjulkaisukonsertti \nAarne Pelkonen – Juho Alakärppä\n \nDuo Aarne Pelkonen ja Juho Alakärppä on työskennellyt menestyksekkäästi jo 15 vuoden ajan ja julkaisee nyt ensimmäisen yhteisen albuminsa ”Last Songs”. Aarnen ja Juhon yhteistyö alkoi Sibelius-Akatemian käytävillä\, jatkui Keski-Euroopassa alan gurujen opissa ja on johtanut esiintymisiin Suomessa ja ulkomailla\, keskeistä laulurepertuaaria laajasti esitellen. Palkintoja parivaljakko on kerännyt mm. Liedkilpailuista Berliinissä ja Enschedessä.\n \nLast Songs -levyn runkona on Franz Schubertin viimeiseksi jäänyt ikoninen laulusarja ”Schwanengesang”\, jakaantuu kahteen kokonaisuuteen\, Rellstabin ja Heinen teksteihin sävellettyihin lauluihin. Kokonaisuuksien väliin\, kommentoimaan rakkauden viiltävää kipua ja kauneutta\, on sijoitettu Jean Sibeliuksen viimeiseksi jäänyt laulukokoelma Op 90 Runebergin teksteihin sekä hänen viimeisin yksinlaulunsa ”Narciss” . Ohjelma esittelee kahden suuren laulusäveltäjän soivan testamentin\, näyttää heidät parhaimmillaan ja paljaimmillaan: kaiken jälkeen jää vain kaipaus\, ”Sehnsucht”\, ”längtan”.\n \nJulkaisukonsertit:\n27.4. klo 19 Järvenpää-talo\n11.5. klo 19 Helsingin konservatorio\n\nLue lisää & liput
URL:https://aarnepelkonen.com/event/last-songs-levynjulkaisukonsertti/
LOCATION:Järvenpää-talo\, Hallintokatu 4\, Järvenpää\, 04400\, Suomi
ATTACH;FMTTYPE=image/jpeg:https://aarnepelkonen.com/wp-content/uploads/2023/02/Duo-uusi-1280x720-1.jpg
END:VEVENT
END:VCALENDAR