BEGIN:VCALENDAR
VERSION:2.0
PRODID:-//Aarne Pelkonen - ECPv6.15.20//NONSGML v1.0//EN
CALSCALE:GREGORIAN
METHOD:PUBLISH
X-WR-CALNAME:Aarne Pelkonen
X-ORIGINAL-URL:https://aarnepelkonen.com
X-WR-CALDESC:Tapahtumat Aarne Pelkonen
REFRESH-INTERVAL;VALUE=DURATION:PT1H
X-Robots-Tag:noindex
X-PUBLISHED-TTL:PT1H
BEGIN:VTIMEZONE
TZID:Europe/Helsinki
BEGIN:DAYLIGHT
TZOFFSETFROM:+0200
TZOFFSETTO:+0300
TZNAME:EEST
DTSTART:20220327T010000
END:DAYLIGHT
BEGIN:STANDARD
TZOFFSETFROM:+0300
TZOFFSETTO:+0200
TZNAME:EET
DTSTART:20221030T010000
END:STANDARD
BEGIN:DAYLIGHT
TZOFFSETFROM:+0200
TZOFFSETTO:+0300
TZNAME:EEST
DTSTART:20230326T010000
END:DAYLIGHT
BEGIN:STANDARD
TZOFFSETFROM:+0300
TZOFFSETTO:+0200
TZNAME:EET
DTSTART:20231029T010000
END:STANDARD
BEGIN:DAYLIGHT
TZOFFSETFROM:+0200
TZOFFSETTO:+0300
TZNAME:EEST
DTSTART:20240331T010000
END:DAYLIGHT
BEGIN:STANDARD
TZOFFSETFROM:+0300
TZOFFSETTO:+0200
TZNAME:EET
DTSTART:20241027T010000
END:STANDARD
END:VTIMEZONE
BEGIN:VEVENT
DTSTART;TZID=Europe/Helsinki:20230407T180000
DTEND;TZID=Europe/Helsinki:20230407T203000
DTSTAMP:20260423T014408
CREATED:20230308T090423Z
LAST-MODIFIED:20230308T090423Z
UID:3427-1680890400-1680899400@aarnepelkonen.com
SUMMARY:Bach: Johannes-passio
DESCRIPTION:Helsingin tuomiokirkko\nke 5.4. klo 18\npe 7.4. klo 18 \nCantores Minores\nSuomalainen barokkiorkesteri \nTom Nyman\, evankelista • Jyrki Korhonen\, Jeesus • Tuuli Lindeberg\, sopraano • Teppo Lampela\, altto • Johan Krogius\, tenori • Aarne Pelkonen\, basso \njoht. Hannu Norjanen \nOsta liput
URL:https://aarnepelkonen.com/event/bach-johannes-passio-2/
LOCATION:Helsingin Tuomiokirkko\, Unioninkatu 29\, Helsinki\, 00170
ATTACH;FMTTYPE=image/jpeg:https://aarnepelkonen.com/wp-content/uploads/2023/03/Aarne1-1280x720-1.jpg
END:VEVENT
END:VCALENDAR