BEGIN:VCALENDAR
VERSION:2.0
PRODID:-//Aarne Pelkonen - ECPv6.15.20//NONSGML v1.0//EN
CALSCALE:GREGORIAN
METHOD:PUBLISH
X-ORIGINAL-URL:https://aarnepelkonen.com
X-WR-CALDESC:Tapahtumat Aarne Pelkonen
REFRESH-INTERVAL;VALUE=DURATION:PT1H
X-Robots-Tag:noindex
X-PUBLISHED-TTL:PT1H
BEGIN:VTIMEZONE
TZID:Europe/Helsinki
BEGIN:DAYLIGHT
TZOFFSETFROM:+0200
TZOFFSETTO:+0300
TZNAME:EEST
DTSTART:20220327T010000
END:DAYLIGHT
BEGIN:STANDARD
TZOFFSETFROM:+0300
TZOFFSETTO:+0200
TZNAME:EET
DTSTART:20221030T010000
END:STANDARD
BEGIN:DAYLIGHT
TZOFFSETFROM:+0200
TZOFFSETTO:+0300
TZNAME:EEST
DTSTART:20230326T010000
END:DAYLIGHT
BEGIN:STANDARD
TZOFFSETFROM:+0300
TZOFFSETTO:+0200
TZNAME:EET
DTSTART:20231029T010000
END:STANDARD
BEGIN:DAYLIGHT
TZOFFSETFROM:+0200
TZOFFSETTO:+0300
TZNAME:EEST
DTSTART:20240331T010000
END:DAYLIGHT
BEGIN:STANDARD
TZOFFSETFROM:+0300
TZOFFSETTO:+0200
TZNAME:EET
DTSTART:20241027T010000
END:STANDARD
END:VTIMEZONE
BEGIN:VEVENT
DTSTART;TZID=Europe/Helsinki:20230108T160000
DTEND;TZID=Europe/Helsinki:20230108T170000
DTSTAMP:20260423T055206
CREATED:20221117T203442Z
LAST-MODIFIED:20221117T203442Z
UID:3255-1673193600-1673197200@aarnepelkonen.com
SUMMARY:Schubert: Schwanengesang
DESCRIPTION:Aarne ja pianisti Juho Alakärppä tulkitsevat Franz Schubertin viimeisen testamentin\, laulusarjan Schwanengesang (Joutsenlaulu). Musiikin tunnelmia sävyttää Kyläkirkon upea wieniläisfortepiano\, jonka on rakentanut Daniel Dörr (1820). \nOsta liput
URL:https://aarnepelkonen.com/event/schubert-schwanengesang/
LOCATION:Pitäjänmäen kyläkirkko\, Henrikintie 25 A 1\, Helsinki\, 00370
ATTACH;FMTTYPE=image/jpeg:https://aarnepelkonen.com/wp-content/uploads/2021/10/Aarne-ja-Juho-1280x720-2.jpg
END:VEVENT
END:VCALENDAR