BEGIN:VCALENDAR
VERSION:2.0
PRODID:-//Aarne Pelkonen - ECPv6.15.20//NONSGML v1.0//EN
CALSCALE:GREGORIAN
METHOD:PUBLISH
X-WR-CALNAME:Aarne Pelkonen
X-ORIGINAL-URL:https://aarnepelkonen.com
X-WR-CALDESC:Tapahtumat Aarne Pelkonen
REFRESH-INTERVAL;VALUE=DURATION:PT1H
X-Robots-Tag:noindex
X-PUBLISHED-TTL:PT1H
BEGIN:VTIMEZONE
TZID:Europe/Helsinki
BEGIN:DAYLIGHT
TZOFFSETFROM:+0200
TZOFFSETTO:+0300
TZNAME:EEST
DTSTART:20220327T010000
END:DAYLIGHT
BEGIN:STANDARD
TZOFFSETFROM:+0300
TZOFFSETTO:+0200
TZNAME:EET
DTSTART:20221030T010000
END:STANDARD
BEGIN:DAYLIGHT
TZOFFSETFROM:+0200
TZOFFSETTO:+0300
TZNAME:EEST
DTSTART:20230326T010000
END:DAYLIGHT
BEGIN:STANDARD
TZOFFSETFROM:+0300
TZOFFSETTO:+0200
TZNAME:EET
DTSTART:20231029T010000
END:STANDARD
BEGIN:DAYLIGHT
TZOFFSETFROM:+0200
TZOFFSETTO:+0300
TZNAME:EEST
DTSTART:20240331T010000
END:DAYLIGHT
BEGIN:STANDARD
TZOFFSETFROM:+0300
TZOFFSETTO:+0200
TZNAME:EET
DTSTART:20241027T010000
END:STANDARD
END:VTIMEZONE
BEGIN:VEVENT
DTSTART;TZID=Europe/Helsinki:20230105T190000
DTEND;TZID=Europe/Helsinki:20230105T210000
DTSTAMP:20260423T055209
CREATED:20220926T125904Z
LAST-MODIFIED:20220926T125904Z
UID:3069-1672945200-1672952400@aarnepelkonen.com
SUMMARY:CircOpera 2.0
DESCRIPTION:Tällaista teosta ei ole ennen oopperalavoilla nähty! Kansallisoopperan uusi CircOpera 2.0 vie katsojan kokonaisvaltaiselle elämysseikkailulle oopperan ja nykysirkuksen maailmaan ja tui säihkettä keskelle pimeintä vuodenaikaa. \nEsitykset kahdella miehityksellä 25.11.2022-7.1.2023.  \nLue lisää & liput
URL:https://aarnepelkonen.com/event/circopera-2-0-10/
LOCATION:Suomen Kansallisooppera\, Helsinginkatu 58\, Helsinki\, 00250\, Suomi
ATTACH;FMTTYPE=image/jpeg:https://aarnepelkonen.com/wp-content/uploads/2022/09/circopera-1280x720-1.jpg
END:VEVENT
END:VCALENDAR