BEGIN:VCALENDAR
VERSION:2.0
PRODID:-//Aarne Pelkonen - ECPv6.15.20//NONSGML v1.0//EN
CALSCALE:GREGORIAN
METHOD:PUBLISH
X-ORIGINAL-URL:https://aarnepelkonen.com
X-WR-CALDESC:Tapahtumat Aarne Pelkonen
REFRESH-INTERVAL;VALUE=DURATION:PT1H
X-Robots-Tag:noindex
X-PUBLISHED-TTL:PT1H
BEGIN:VTIMEZONE
TZID:Europe/Helsinki
BEGIN:DAYLIGHT
TZOFFSETFROM:+0200
TZOFFSETTO:+0300
TZNAME:EEST
DTSTART:20210328T010000
END:DAYLIGHT
BEGIN:STANDARD
TZOFFSETFROM:+0300
TZOFFSETTO:+0200
TZNAME:EET
DTSTART:20211031T010000
END:STANDARD
BEGIN:DAYLIGHT
TZOFFSETFROM:+0200
TZOFFSETTO:+0300
TZNAME:EEST
DTSTART:20220327T010000
END:DAYLIGHT
BEGIN:STANDARD
TZOFFSETFROM:+0300
TZOFFSETTO:+0200
TZNAME:EET
DTSTART:20221030T010000
END:STANDARD
BEGIN:DAYLIGHT
TZOFFSETFROM:+0200
TZOFFSETTO:+0300
TZNAME:EEST
DTSTART:20230326T010000
END:DAYLIGHT
BEGIN:STANDARD
TZOFFSETFROM:+0300
TZOFFSETTO:+0200
TZNAME:EET
DTSTART:20231029T010000
END:STANDARD
END:VTIMEZONE
BEGIN:VEVENT
DTSTART;TZID=Europe/Helsinki:20221223T190000
DTEND;TZID=Europe/Helsinki:20221223T203000
DTSTAMP:20260423T072053
CREATED:20221117T114241Z
LAST-MODIFIED:20221117T114535Z
UID:3229-1671822000-1671827400@aarnepelkonen.com
SUMMARY:Taivas sylissäni -joulukonsertti
DESCRIPTION:Aarnen perinteinen joulukonsertti tunnelmallisessa Rauman Pyhän Ristin kirkossa. Ohjelma perustuu Aarnen Taivas sylissäni -levyyn ja sisältää rakastettuja joululauluja ja harvemmin kuultuja helmiä.\n \nAarnen kanssa musisoivat urkuri-pianisti Ilpo Laspas ja sellisti Lauri Rantamoijanen.\n \nLiput: Ticketmaster ja tuntia ennen ovella (jos paikkoja on) \nOsta liput
URL:https://aarnepelkonen.com/event/taivas-sylissani-joulukonsertti-3/
LOCATION:Pyhän Ristin kirkko\, Rauma\, Luostarinkatu 1\, Rauma\, 26100
ATTACH;FMTTYPE=image/jpeg:https://aarnepelkonen.com/wp-content/uploads/2022/11/TaivasSylissani-kotisivut.jpg
END:VEVENT
END:VCALENDAR