BEGIN:VCALENDAR
VERSION:2.0
PRODID:-//Aarne Pelkonen - ECPv6.15.20//NONSGML v1.0//EN
CALSCALE:GREGORIAN
METHOD:PUBLISH
X-ORIGINAL-URL:https://aarnepelkonen.com
X-WR-CALDESC:Tapahtumat Aarne Pelkonen
REFRESH-INTERVAL;VALUE=DURATION:PT1H
X-Robots-Tag:noindex
X-PUBLISHED-TTL:PT1H
BEGIN:VTIMEZONE
TZID:Europe/Helsinki
BEGIN:DAYLIGHT
TZOFFSETFROM:+0200
TZOFFSETTO:+0300
TZNAME:EEST
DTSTART:20210328T010000
END:DAYLIGHT
BEGIN:STANDARD
TZOFFSETFROM:+0300
TZOFFSETTO:+0200
TZNAME:EET
DTSTART:20211031T010000
END:STANDARD
BEGIN:DAYLIGHT
TZOFFSETFROM:+0200
TZOFFSETTO:+0300
TZNAME:EEST
DTSTART:20220327T010000
END:DAYLIGHT
BEGIN:STANDARD
TZOFFSETFROM:+0300
TZOFFSETTO:+0200
TZNAME:EET
DTSTART:20221030T010000
END:STANDARD
BEGIN:DAYLIGHT
TZOFFSETFROM:+0200
TZOFFSETTO:+0300
TZNAME:EEST
DTSTART:20230326T010000
END:DAYLIGHT
BEGIN:STANDARD
TZOFFSETFROM:+0300
TZOFFSETTO:+0200
TZNAME:EET
DTSTART:20231029T010000
END:STANDARD
END:VTIMEZONE
BEGIN:VEVENT
DTSTART;TZID=Europe/Helsinki:20221204T160000
DTEND;TZID=Europe/Helsinki:20221204T173000
DTSTAMP:20260423T072116
CREATED:20221117T113958Z
LAST-MODIFIED:20221117T114427Z
UID:3224-1670169600-1670175000@aarnepelkonen.com
SUMMARY:Taivas sylissäni -joulukonsertti
DESCRIPTION:Aarnen perinteinen joulukonsertti\, jonka ohjelma pohjautuu Taivas sylissäni -joululevyyn. Konsertti sisältää rakastettuja joululauluja sekä harvemmin kuultuja helmiä.\n \nPianistina Juho Alakärppä.\n \nOhjelmamaksu 10 € ovella.\n \n\nJärjestäjä: Siikalatvan seurakunta
URL:https://aarnepelkonen.com/event/taivas-sylissani-joulukonsertti-2/
LOCATION:Kestilän kirkko\, Kestilänraitti 3\, Kestilä\, 92700
ATTACH;FMTTYPE=image/jpeg:https://aarnepelkonen.com/wp-content/uploads/2022/11/TaivasSylissani-kotisivut.jpg
END:VEVENT
END:VCALENDAR