BEGIN:VCALENDAR
VERSION:2.0
PRODID:-//Aarne Pelkonen - ECPv6.15.20//NONSGML v1.0//EN
CALSCALE:GREGORIAN
METHOD:PUBLISH
X-ORIGINAL-URL:https://aarnepelkonen.com
X-WR-CALDESC:Tapahtumat Aarne Pelkonen
REFRESH-INTERVAL;VALUE=DURATION:PT1H
X-Robots-Tag:noindex
X-PUBLISHED-TTL:PT1H
BEGIN:VTIMEZONE
TZID:Europe/Helsinki
BEGIN:DAYLIGHT
TZOFFSETFROM:+0200
TZOFFSETTO:+0300
TZNAME:EEST
DTSTART:20210328T010000
END:DAYLIGHT
BEGIN:STANDARD
TZOFFSETFROM:+0300
TZOFFSETTO:+0200
TZNAME:EET
DTSTART:20211031T010000
END:STANDARD
BEGIN:DAYLIGHT
TZOFFSETFROM:+0200
TZOFFSETTO:+0300
TZNAME:EEST
DTSTART:20220327T010000
END:DAYLIGHT
BEGIN:STANDARD
TZOFFSETFROM:+0300
TZOFFSETTO:+0200
TZNAME:EET
DTSTART:20221030T010000
END:STANDARD
BEGIN:DAYLIGHT
TZOFFSETFROM:+0200
TZOFFSETTO:+0300
TZNAME:EEST
DTSTART:20230326T010000
END:DAYLIGHT
BEGIN:STANDARD
TZOFFSETFROM:+0300
TZOFFSETTO:+0200
TZNAME:EET
DTSTART:20231029T010000
END:STANDARD
END:VTIMEZONE
BEGIN:VEVENT
DTSTART;TZID=Europe/Helsinki:20221106T150000
DTEND;TZID=Europe/Helsinki:20221106T163000
DTSTAMP:20260423T083913
CREATED:20221008T072054Z
LAST-MODIFIED:20221010T063436Z
UID:3157-1667746800-1667752200@aarnepelkonen.com
SUMMARY:Kaipuuni siivet
DESCRIPTION:Aarne esiintyy Keski-Suomen Syöpäyhdistyksen järjestämässä hyväntekeväisyyskonsertissa yhdessä pianisti Juho Alakärpän kanssa. Pyhäinpäivän jälkeisessä konsertissa kuullaan lauluja rakkauden ja ikuisuuden kaipuusta mm. säveltäjiltä Oskari Merikanto\, Jean Sibelius ja Franz Schubert. Konsertti päättyy Eino Leinoon ja Aarnen Haavekuvia-lauluihin. \nLippuvaraukset: \nkatriina.nokelainen@kessy.fi \n014 3330 220 \nLisätiedot
URL:https://aarnepelkonen.com/event/kaipuuni-siivet/
LOCATION:Jyväskylän Kaupunginkirkko\, Kirkkopuisto\, Jyväskylä\, 40100\, Suomi
ATTACH;FMTTYPE=image/jpeg:https://aarnepelkonen.com/wp-content/uploads/2022/10/Aarne-tumma-poolo.jpg
END:VEVENT
END:VCALENDAR