BEGIN:VCALENDAR
VERSION:2.0
PRODID:-//Aarne Pelkonen - ECPv6.15.20//NONSGML v1.0//EN
CALSCALE:GREGORIAN
METHOD:PUBLISH
X-WR-CALNAME:Aarne Pelkonen
X-ORIGINAL-URL:https://aarnepelkonen.com
X-WR-CALDESC:Tapahtumat Aarne Pelkonen
REFRESH-INTERVAL;VALUE=DURATION:PT1H
X-Robots-Tag:noindex
X-PUBLISHED-TTL:PT1H
BEGIN:VTIMEZONE
TZID:Europe/Helsinki
BEGIN:DAYLIGHT
TZOFFSETFROM:+0200
TZOFFSETTO:+0300
TZNAME:EEST
DTSTART:20210328T010000
END:DAYLIGHT
BEGIN:STANDARD
TZOFFSETFROM:+0300
TZOFFSETTO:+0200
TZNAME:EET
DTSTART:20211031T010000
END:STANDARD
BEGIN:DAYLIGHT
TZOFFSETFROM:+0200
TZOFFSETTO:+0300
TZNAME:EEST
DTSTART:20220327T010000
END:DAYLIGHT
BEGIN:STANDARD
TZOFFSETFROM:+0300
TZOFFSETTO:+0200
TZNAME:EET
DTSTART:20221030T010000
END:STANDARD
BEGIN:DAYLIGHT
TZOFFSETFROM:+0200
TZOFFSETTO:+0300
TZNAME:EEST
DTSTART:20230326T010000
END:DAYLIGHT
BEGIN:STANDARD
TZOFFSETFROM:+0300
TZOFFSETTO:+0200
TZNAME:EET
DTSTART:20231029T010000
END:STANDARD
END:VTIMEZONE
BEGIN:VEVENT
DTSTART;TZID=Europe/Helsinki:20221104T190000
DTEND;TZID=Europe/Helsinki:20221104T203000
DTSTAMP:20260423T083819
CREATED:20221026T124928Z
LAST-MODIFIED:20221026T125040Z
UID:3201-1667588400-1667593800@aarnepelkonen.com
SUMMARY:RSO:n Nenäpäivä-konsertti
DESCRIPTION:RSO heittäytyy Nenäpäivään rohkealla teemalla ja kiinnostavilla kappalevalinnoilla! Naisten ja tyttöjen näkökulma musiikissa loistaa kirkkaasti ja lämpöisesti jokaisessa kuultavassa kappaleessa. Solisteina mm. Anu Komsi\, Emma Salokoski\, Anni Elif Egecioglu ja Aarne Pelkonen. Konsertin juontaa Lola Odusoga. \nSuora lähetys Yle TV1:ssä ja Areenassa 4.11. klo 19 \nKatso Areenassa
URL:https://aarnepelkonen.com/event/rson-nenapaiva-konsertti/
ATTACH;FMTTYPE=image/jpeg:https://aarnepelkonen.com/wp-content/uploads/2022/10/RSO-nenapaiva.jpg
END:VEVENT
END:VCALENDAR