BEGIN:VCALENDAR
VERSION:2.0
PRODID:-//Aarne Pelkonen - ECPv6.15.20//NONSGML v1.0//EN
CALSCALE:GREGORIAN
METHOD:PUBLISH
X-ORIGINAL-URL:https://aarnepelkonen.com
X-WR-CALDESC:Tapahtumat Aarne Pelkonen
REFRESH-INTERVAL;VALUE=DURATION:PT1H
X-Robots-Tag:noindex
X-PUBLISHED-TTL:PT1H
BEGIN:VTIMEZONE
TZID:Europe/Helsinki
BEGIN:DAYLIGHT
TZOFFSETFROM:+0200
TZOFFSETTO:+0300
TZNAME:EEST
DTSTART:20210328T010000
END:DAYLIGHT
BEGIN:STANDARD
TZOFFSETFROM:+0300
TZOFFSETTO:+0200
TZNAME:EET
DTSTART:20211031T010000
END:STANDARD
BEGIN:DAYLIGHT
TZOFFSETFROM:+0200
TZOFFSETTO:+0300
TZNAME:EEST
DTSTART:20220327T010000
END:DAYLIGHT
BEGIN:STANDARD
TZOFFSETFROM:+0300
TZOFFSETTO:+0200
TZNAME:EET
DTSTART:20221030T010000
END:STANDARD
BEGIN:DAYLIGHT
TZOFFSETFROM:+0200
TZOFFSETTO:+0300
TZNAME:EEST
DTSTART:20230326T010000
END:DAYLIGHT
BEGIN:STANDARD
TZOFFSETFROM:+0300
TZOFFSETTO:+0200
TZNAME:EET
DTSTART:20231029T010000
END:STANDARD
END:VTIMEZONE
BEGIN:VEVENT
DTSTART;TZID=Europe/Helsinki:20221014T190000
DTEND;TZID=Europe/Helsinki:20221014T210000
DTSTAMP:20260423T094959
CREATED:20220926T133250Z
LAST-MODIFIED:20220926T133250Z
UID:3086-1665774000-1665781200@aarnepelkonen.com
SUMMARY:Leipzig 1722
DESCRIPTION:Vaasa Baroquen konsertissa kuullaan sävellyksiä Bachilta\, Telemannilta ja Graupnerilta orkesterin\, kuoron ja solistien tulkitsemana. Aarne esittää Bachin rakastetun soolokantaatin ”Ich habe genug”. Vaasan kaupunginorkesteria johtavat Kajsa Dahlbäck & Kreeta-Maria Kentala. \nLue lisää & liput
URL:https://aarnepelkonen.com/event/leipzig-1722-2/
LOCATION:Vaasan kirkko\, Kirkkopuistikko 24\, Vaasa\, 65100
ATTACH;FMTTYPE=image/jpeg:https://aarnepelkonen.com/wp-content/uploads/2022/03/Aarne-rusetti-1280x720-1.jpg
END:VEVENT
END:VCALENDAR