BEGIN:VCALENDAR
VERSION:2.0
PRODID:-//Aarne Pelkonen - ECPv6.15.20//NONSGML v1.0//EN
CALSCALE:GREGORIAN
METHOD:PUBLISH
X-WR-CALNAME:Aarne Pelkonen
X-ORIGINAL-URL:https://aarnepelkonen.com
X-WR-CALDESC:Tapahtumat Aarne Pelkonen
REFRESH-INTERVAL;VALUE=DURATION:PT1H
X-Robots-Tag:noindex
X-PUBLISHED-TTL:PT1H
BEGIN:VTIMEZONE
TZID:Europe/Helsinki
BEGIN:DAYLIGHT
TZOFFSETFROM:+0200
TZOFFSETTO:+0300
TZNAME:EEST
DTSTART:20210328T010000
END:DAYLIGHT
BEGIN:STANDARD
TZOFFSETFROM:+0300
TZOFFSETTO:+0200
TZNAME:EET
DTSTART:20211031T010000
END:STANDARD
BEGIN:DAYLIGHT
TZOFFSETFROM:+0200
TZOFFSETTO:+0300
TZNAME:EEST
DTSTART:20220327T010000
END:DAYLIGHT
BEGIN:STANDARD
TZOFFSETFROM:+0300
TZOFFSETTO:+0200
TZNAME:EET
DTSTART:20221030T010000
END:STANDARD
BEGIN:DAYLIGHT
TZOFFSETFROM:+0200
TZOFFSETTO:+0300
TZNAME:EEST
DTSTART:20230326T010000
END:DAYLIGHT
BEGIN:STANDARD
TZOFFSETFROM:+0300
TZOFFSETTO:+0200
TZNAME:EET
DTSTART:20231029T010000
END:STANDARD
END:VTIMEZONE
BEGIN:VEVENT
DTSTART;TZID=Europe/Helsinki:20220806T140000
DTEND;TZID=Europe/Helsinki:20220806T153000
DTSTAMP:20260423T120856
CREATED:20220519T085736Z
LAST-MODIFIED:20220519T085736Z
UID:2990-1659794400-1659799800@aarnepelkonen.com
SUMMARY:Kahvikonsertti ”Á quatre”
DESCRIPTION:Brahmsin suositut rakkauslaulut sisältävät sekä sooloja\, duettoja ja kvartetteja nelikätisen pianosäestyksen kera.\nKahvi ja kakkupala sisältyvät hintaan \nJohannes Brahms: Liebesliederwaltzer op 52.\nSergei Rachmaninoff: 6 Morceaux op.11 \nOlga Heikkilä\, sopraano\nMonica Groop\, mezzosopraano\nJussi Myllys\, tenori\nAarne Pelkonen\, baritoni\nKirill Kozlovsky\, piano\nEmil Holmström\, piano \nOsta lippuja
URL:https://aarnepelkonen.com/event/kahvikonsertti-a-quatre/
LOCATION:Solhälla\, Tullandintie 56\, Pellinki\, 07370
ATTACH;FMTTYPE=image/jpeg:https://aarnepelkonen.com/wp-content/uploads/2022/05/Aarne-liivi-1280x720-1.jpg
END:VEVENT
END:VCALENDAR