BEGIN:VCALENDAR
VERSION:2.0
PRODID:-//Aarne Pelkonen - ECPv6.15.20//NONSGML v1.0//EN
CALSCALE:GREGORIAN
METHOD:PUBLISH
X-WR-CALNAME:Aarne Pelkonen
X-ORIGINAL-URL:https://aarnepelkonen.com
X-WR-CALDESC:Tapahtumat Aarne Pelkonen
REFRESH-INTERVAL;VALUE=DURATION:PT1H
X-Robots-Tag:noindex
X-PUBLISHED-TTL:PT1H
BEGIN:VTIMEZONE
TZID:Europe/Helsinki
BEGIN:DAYLIGHT
TZOFFSETFROM:+0200
TZOFFSETTO:+0300
TZNAME:EEST
DTSTART:20210328T010000
END:DAYLIGHT
BEGIN:STANDARD
TZOFFSETFROM:+0300
TZOFFSETTO:+0200
TZNAME:EET
DTSTART:20211031T010000
END:STANDARD
BEGIN:DAYLIGHT
TZOFFSETFROM:+0200
TZOFFSETTO:+0300
TZNAME:EEST
DTSTART:20220327T010000
END:DAYLIGHT
BEGIN:STANDARD
TZOFFSETFROM:+0300
TZOFFSETTO:+0200
TZNAME:EET
DTSTART:20221030T010000
END:STANDARD
BEGIN:DAYLIGHT
TZOFFSETFROM:+0200
TZOFFSETTO:+0300
TZNAME:EEST
DTSTART:20230326T010000
END:DAYLIGHT
BEGIN:STANDARD
TZOFFSETFROM:+0300
TZOFFSETTO:+0200
TZNAME:EET
DTSTART:20231029T010000
END:STANDARD
END:VTIMEZONE
BEGIN:VEVENT
DTSTART;TZID=Europe/Helsinki:20220609T190000
DTEND;TZID=Europe/Helsinki:20220609T210000
DTSTAMP:20260423T143803
CREATED:20220519T075632Z
LAST-MODIFIED:20220519T092903Z
UID:2947-1654801200-1654808400@aarnepelkonen.com
SUMMARY:Haavekuvia
DESCRIPTION:Haavekuvia vie kauneimpien suomalaisten laulujen ja tekstien keskelle. Illan aikana­ kuullaan uusin sovituksin rakastettuja klassikoita\, kuten Maailma on kaunis ja Nocturne\, sekä uusia sävellyksiä Eino Leinon ja muiden mestareiden teksteihin. Soitinyhtye koostuu suomalaisen jazzin ja klassisen musiikkikentän kärkinimistä\, joita kuullaan harvoin yhdessä. Konsertti kuljettaa kevätyön kuutamosta keskelle kesäyötä. \nAarne Pelkonen\, baritoni\nJukka Perko\, saksofoni\nSeppo Kantonen\, piano\nEriikka Maalismaa\, viulu\nJani Pensola\, kontrabasso \nOsta liput
URL:https://aarnepelkonen.com/event/haavekuvia-2/
LOCATION:Suomen lasimuseo\, Riihimäki\, Tehtaankatu 23\, Riihimäki\, 11910
ATTACH;FMTTYPE=image/jpeg:https://aarnepelkonen.com/wp-content/uploads/2021/10/Haavekuvia-kansi-1280x720-1.jpg
END:VEVENT
END:VCALENDAR