BEGIN:VCALENDAR
VERSION:2.0
PRODID:-//Aarne Pelkonen - ECPv6.15.20//NONSGML v1.0//EN
CALSCALE:GREGORIAN
METHOD:PUBLISH
X-WR-CALNAME:Aarne Pelkonen
X-ORIGINAL-URL:https://aarnepelkonen.com
X-WR-CALDESC:Tapahtumat Aarne Pelkonen
REFRESH-INTERVAL;VALUE=DURATION:PT1H
X-Robots-Tag:noindex
X-PUBLISHED-TTL:PT1H
BEGIN:VTIMEZONE
TZID:Europe/Helsinki
BEGIN:DAYLIGHT
TZOFFSETFROM:+0200
TZOFFSETTO:+0300
TZNAME:EEST
DTSTART:20210328T010000
END:DAYLIGHT
BEGIN:STANDARD
TZOFFSETFROM:+0300
TZOFFSETTO:+0200
TZNAME:EET
DTSTART:20211031T010000
END:STANDARD
BEGIN:DAYLIGHT
TZOFFSETFROM:+0200
TZOFFSETTO:+0300
TZNAME:EEST
DTSTART:20220327T010000
END:DAYLIGHT
BEGIN:STANDARD
TZOFFSETFROM:+0300
TZOFFSETTO:+0200
TZNAME:EET
DTSTART:20221030T010000
END:STANDARD
BEGIN:DAYLIGHT
TZOFFSETFROM:+0200
TZOFFSETTO:+0300
TZNAME:EEST
DTSTART:20230326T010000
END:DAYLIGHT
BEGIN:STANDARD
TZOFFSETFROM:+0300
TZOFFSETTO:+0200
TZNAME:EET
DTSTART:20231029T010000
END:STANDARD
END:VTIMEZONE
BEGIN:VEVENT
DTSTART;TZID=Europe/Helsinki:20220421T190000
DTEND;TZID=Europe/Helsinki:20220421T210000
DTSTAMP:20260423T172944
CREATED:20220309T131205Z
LAST-MODIFIED:20220331T062336Z
UID:2248-1650567600-1650574800@aarnepelkonen.com
SUMMARY:Lisbeta-ooppera
DESCRIPTION:Lisbeta – noitanaisen älä anna elää on Ahvenanmaan itsehallinnon satavuotisjuhlan kunniaksi sävelletty ooppera naisvihasta ja taikauskosta. Teos sain kantaesityksensä Maarianhaminassa kesällä 2021 ja nähdään nyt Aleksanterin teatterissa kahtena esityksenä! \nHarakan räkätys kiirii yli Sundin\, kun kirkkoherra ja uusi kihlakunnantuomari lietsovat väestössä kauhua tuntemattoman edessä. Pian seitsemän naista teloitetaan uudesta rikoksesta: liitosta paholaisen kanssa. Lisbeta on musiikin juhlaa\, jossa 1600-luvun noituudesta syytetyt naiset nujertavat viharetoriikan logiikan. \nTekijät: \nLisbeta – Sofie Asplund\, sopraano\nPsilander – Philip Björkqvist\, bassobaritoni\nKjellinus – Joonas Eloranta\, tenori\nKarin – Jenny Carlstedt\, mezzosopraano\nEbba – Therese Karlsson\, sopraano\nPer – Aarne Pelkonen\, baritoni\nHarakka – Veli Kujala\, 1/4-sävelaskelviritteinen harmonikka\nEstonian Sinfonietta \nMusiikki: Karólína Eiríksdóttir\nLibretto: Carina Karlsson ja Ida Kronholm\nKapellimestari: Anna-Maria Helsing\nOhjaus: Ida Kronholm\nKoreografia: Soledad Howe \nEsitykset 21. ja 22.4.2022 \nOSTA LIPUT
URL:https://aarnepelkonen.com/event/lisbeta-ooppera-4/
LOCATION:Aleksanterin Teatteri\, Albertinkatu 32\, Helsinki\, 00180\, Suomi
ATTACH;FMTTYPE=image/jpeg:https://aarnepelkonen.com/wp-content/uploads/2021/06/Lisbeta-1280x720-1.jpg
END:VEVENT
END:VCALENDAR