BEGIN:VCALENDAR
VERSION:2.0
PRODID:-//Aarne Pelkonen - ECPv6.15.20//NONSGML v1.0//EN
CALSCALE:GREGORIAN
METHOD:PUBLISH
X-ORIGINAL-URL:https://aarnepelkonen.com
X-WR-CALDESC:Tapahtumat Aarne Pelkonen
REFRESH-INTERVAL;VALUE=DURATION:PT1H
X-Robots-Tag:noindex
X-PUBLISHED-TTL:PT1H
BEGIN:VTIMEZONE
TZID:Europe/Helsinki
BEGIN:DAYLIGHT
TZOFFSETFROM:+0200
TZOFFSETTO:+0300
TZNAME:EEST
DTSTART:20210328T010000
END:DAYLIGHT
BEGIN:STANDARD
TZOFFSETFROM:+0300
TZOFFSETTO:+0200
TZNAME:EET
DTSTART:20211031T010000
END:STANDARD
BEGIN:DAYLIGHT
TZOFFSETFROM:+0200
TZOFFSETTO:+0300
TZNAME:EEST
DTSTART:20220327T010000
END:DAYLIGHT
BEGIN:STANDARD
TZOFFSETFROM:+0300
TZOFFSETTO:+0200
TZNAME:EET
DTSTART:20221030T010000
END:STANDARD
BEGIN:DAYLIGHT
TZOFFSETFROM:+0200
TZOFFSETTO:+0300
TZNAME:EEST
DTSTART:20230326T010000
END:DAYLIGHT
BEGIN:STANDARD
TZOFFSETFROM:+0300
TZOFFSETTO:+0200
TZNAME:EET
DTSTART:20231029T010000
END:STANDARD
END:VTIMEZONE
BEGIN:VEVENT
DTSTART;TZID=Europe/Helsinki:20220206T160000
DTEND;TZID=Europe/Helsinki:20220206T173000
DTSTAMP:20260423T213214
CREATED:20220131T152457Z
LAST-MODIFIED:20220331T074536Z
UID:1796-1644163200-1644168600@aarnepelkonen.com
SUMMARY:Schubert: Winterreise
DESCRIPTION:Esitykset klo 16 ja 19 \nAarne ja pianisti Juho Alakärppä ovat esittäneet Schubertin Talvisen matkan lukuisia kertoja. Nyt duo esittää tämän järisyttävän teoksen tunnelmallisessa kyläkirkossa ja Schubertin aikaisella soittimella. \nWinterreise on Schubertin viimeisimpiä ja suosituimpia sävellyksiä. Siinä matkamies peilaa omaa rakkaussuruaan kohtaamiinsa luonnonilmiöihin. Onnelliset muistot lämmittävät hetken kunnes talven kylmyys\, pettymys ja toivottomuus valtaavat kulkijan. Mutta loppu muuttaa kaiken. \nTeos esitetään 6.2. kahteen kertaan\, klo 16 ja 19. Myynnissä vain 5o lippua / konsertti. Varaa omasi (25 €\, 20 € eläkeläiset\, 10 € opiskelijat ja lapset) sähköpostitse: pitajanmaen.kylakirkko@gmail.com
URL:https://aarnepelkonen.com/event/schubert-winterreise-2/
LOCATION:Pitäjänmäen kyläkirkko\, Henrikintie 25 A 1\, Helsinki\, 00370
ATTACH;FMTTYPE=image/jpeg:https://aarnepelkonen.com/wp-content/uploads/2022/01/Duo-1280x720-1.jpg
END:VEVENT
BEGIN:VEVENT
DTSTART;TZID=Europe/Helsinki:20220206T190000
DTEND;TZID=Europe/Helsinki:20220206T203000
DTSTAMP:20260423T213214
CREATED:20220201T124649Z
LAST-MODIFIED:20220331T074422Z
UID:1812-1644174000-1644179400@aarnepelkonen.com
SUMMARY:Schubert: Winterreise
DESCRIPTION:Aarne ja pianisti Juho Alakärppä ovat esittäneet Schubertin Winterreisen lukuisia kertoja. Nyt duo esittää tämän järisyttävän teoksen tunnelmallisessa kyläkirkossa ja Schubertin aikaisella soittimella. \nWinterreise on Schubertin viimeisimpiä ja suosituimpia sävellyksiä. Siinä matkamies peilaa omaa rakkaussuruaan kohtaamiinsa luonnonilmiöihin. Onnelliset muistot lämmittävät hetken kunnes talven kylmyys\, pettymys ja toivottomuus valtaavat kulkijan. Mutta loppu muuttaa kaiken. \nKaksi esitystä klo 16 ja 19. Myynnissä vain 5o lippua / konsertti. Varaa omasi (25 €\, 20 € eläkeläiset\, 10 € opiskelijat ja lapset) sähköpostitse: pitajanmaen.kylakirkko@gmail.com
URL:https://aarnepelkonen.com/event/schubert-winterreise-3/
LOCATION:Pitäjänmäen kyläkirkko\, Henrikintie 25 A 1\, Helsinki\, 00370
ATTACH;FMTTYPE=image/jpeg:https://aarnepelkonen.com/wp-content/uploads/2022/01/Duo-1280x720-1.jpg
END:VEVENT
END:VCALENDAR