BEGIN:VCALENDAR
VERSION:2.0
PRODID:-//Aarne Pelkonen - ECPv6.15.20//NONSGML v1.0//EN
CALSCALE:GREGORIAN
METHOD:PUBLISH
X-ORIGINAL-URL:https://aarnepelkonen.com
X-WR-CALDESC:Tapahtumat Aarne Pelkonen
REFRESH-INTERVAL;VALUE=DURATION:PT1H
X-Robots-Tag:noindex
X-PUBLISHED-TTL:PT1H
BEGIN:VTIMEZONE
TZID:Europe/Helsinki
BEGIN:DAYLIGHT
TZOFFSETFROM:+0200
TZOFFSETTO:+0300
TZNAME:EEST
DTSTART:20200329T010000
END:DAYLIGHT
BEGIN:STANDARD
TZOFFSETFROM:+0300
TZOFFSETTO:+0200
TZNAME:EET
DTSTART:20201025T010000
END:STANDARD
BEGIN:DAYLIGHT
TZOFFSETFROM:+0200
TZOFFSETTO:+0300
TZNAME:EEST
DTSTART:20210328T010000
END:DAYLIGHT
BEGIN:STANDARD
TZOFFSETFROM:+0300
TZOFFSETTO:+0200
TZNAME:EET
DTSTART:20211031T010000
END:STANDARD
BEGIN:DAYLIGHT
TZOFFSETFROM:+0200
TZOFFSETTO:+0300
TZNAME:EEST
DTSTART:20220327T010000
END:DAYLIGHT
BEGIN:STANDARD
TZOFFSETFROM:+0300
TZOFFSETTO:+0200
TZNAME:EET
DTSTART:20221030T010000
END:STANDARD
END:VTIMEZONE
BEGIN:VEVENT
DTSTART;VALUE=DATE:20210523
DTEND;VALUE=DATE:20220101
DTSTAMP:20260424T001029
CREATED:20210505T094258Z
LAST-MODIFIED:20220331T081515Z
UID:986-1621728000-1640995199@aarnepelkonen.com
SUMMARY:Händel: Messias (Yle Areena)
DESCRIPTION:Händelin rakastettu suurteos lähetettiin Kallion kirkosta suorana video- ja radiolähetyksenä Yle Areenassa ja Yle Radio 1:ssä helluntaina 23.5. \nKATSO KONSERTIN TALLENNE TÄSTÄ >> \nTeos on sovitettu neljälle solistille\, tuplakvartetille ja seitsemälle soittajalle. \nKOKOONPANO \nSolistit:\nMarjukka Tepponen\, sopraano – Jenny Carlstedt\, mezzosopraano –\nTuomas Katajala\, tenori – Aarne Pelkonen\, baritoni \nTuplakvartetti:\nTuuli Lindeberg\, Olga Heikkilä\, Katariina Heikkilä\, Sirkku Rintamäki\, Tommi Niskala\, Juho Punkeri\, Elja Puukko ja Tuukka Haapaniemi \nMGRENsemble:\nMarkus Malmgren\, urut ja soitinnus – Tero Latvala\, viulu – Antto Vanhala\, alttoviulu/viulu – Seidi Palonen\, oboe – Antti Joki ja Juhana Valtonen\, turmpetti – Tuija-Maija Nurminen\, patarummut \nTaiteellinen tuotanto:\nAarne Pelkonen ja Tuomas Katajala \nKonserttia tukevat:\nHelsingin seurakuntayhtymä\, Espoon seurakuntayhtymä\, Kirkkohallitus\, Kallion seurakunta\, Helsingin Tuomiokirkkoseurakunta\, Haagan seurakunta\, Pakilan seurakunta\, Espoonlahden seurakunta ja Vantaankosken seurakunta.
URL:https://aarnepelkonen.com/event/live-handel-messias/
ATTACH;FMTTYPE=image/jpeg:https://aarnepelkonen.com/wp-content/uploads/2021/05/Messias_720x1280-1.jpg
END:VEVENT
BEGIN:VEVENT
DTSTART;TZID=Europe/Helsinki:20211106T190000
DTEND;TZID=Europe/Helsinki:20211106T210000
DTSTAMP:20260424T001029
CREATED:20211001T155956Z
LAST-MODIFIED:20220331T080407Z
UID:1198-1636225200-1636232400@aarnepelkonen.com
SUMMARY:Romantiikan jättiläiset
DESCRIPTION:Romantiikan Jättiläiset toteutui taas 6.11.2021 upein artistein Finlandia-talossa! Lavalla nähtiin Aarnen lisäksi mm. Diandra\, Waltteri Torikka\, Jukka Perko\, Elena Putina ja Mikko Leppilampi\, joka myös juontaa konsertin. Kansainvälisiä artisteja edustavat mm. maailmankuulu saksofonisti Igor Butman sekä Mariinski-teatterin solisti Nelli Gafijatullina ja baritonilaulaja Aleksander Pakhmutov. Säestävinä orkestereina kuultiin huikeaa Helsinki UMO Jazz Orchestraa Antti Rissasen johdolla sekä Peterburg Concert -sinfoniaorkesteria. \nKATSO KONSERTIN TALLENNE
URL:https://aarnepelkonen.com/event/romantiikan-jattilaiset/
LOCATION:Finlandia-talo\, Mannerheimintie 13e\, Helsinki\, 00100
ATTACH;FMTTYPE=image/jpeg:https://aarnepelkonen.com/wp-content/uploads/2021/10/Romantiikan-jattilaiset-1280x720-3.jpg
END:VEVENT
END:VCALENDAR