BEGIN:VCALENDAR
VERSION:2.0
PRODID:-//Aarne Pelkonen - ECPv6.15.20//NONSGML v1.0//EN
CALSCALE:GREGORIAN
METHOD:PUBLISH
X-WR-CALNAME:Aarne Pelkonen
X-ORIGINAL-URL:https://aarnepelkonen.com
X-WR-CALDESC:Tapahtumat Aarne Pelkonen
REFRESH-INTERVAL;VALUE=DURATION:PT1H
X-Robots-Tag:noindex
X-PUBLISHED-TTL:PT1H
BEGIN:VTIMEZONE
TZID:Europe/Helsinki
BEGIN:DAYLIGHT
TZOFFSETFROM:+0200
TZOFFSETTO:+0300
TZNAME:EEST
DTSTART:20200329T010000
END:DAYLIGHT
BEGIN:STANDARD
TZOFFSETFROM:+0300
TZOFFSETTO:+0200
TZNAME:EET
DTSTART:20201025T010000
END:STANDARD
BEGIN:DAYLIGHT
TZOFFSETFROM:+0200
TZOFFSETTO:+0300
TZNAME:EEST
DTSTART:20210328T010000
END:DAYLIGHT
BEGIN:STANDARD
TZOFFSETFROM:+0300
TZOFFSETTO:+0200
TZNAME:EET
DTSTART:20211031T010000
END:STANDARD
BEGIN:DAYLIGHT
TZOFFSETFROM:+0200
TZOFFSETTO:+0300
TZNAME:EEST
DTSTART:20220327T010000
END:DAYLIGHT
BEGIN:STANDARD
TZOFFSETFROM:+0300
TZOFFSETTO:+0200
TZNAME:EET
DTSTART:20221030T010000
END:STANDARD
END:VTIMEZONE
BEGIN:VEVENT
DTSTART;VALUE=DATE:20210506
DTEND;VALUE=DATE:20210701
DTSTAMP:20260424T073229
CREATED:20210424T105330Z
LAST-MODIFIED:20220331T081703Z
UID:954-1620259200-1625097599@aarnepelkonen.com
SUMMARY:Aarnen ja Juhon kevät!
DESCRIPTION:Baritoni Aarne Pelkonen ja pianisti Juho Alakärppä virittäytyivät kevättaajuudelle suorassa lähetyksessä Järvenpään Sibelius-salista 6.5. Konsertti on nyt katsottavissa tallenteena. \nVoit maksaa katselusta vapaaehtoisen osallistumismaksun seuraavilla tavoilla: \n1. Lähettämällä tekstiviestin TUEN5E (5 €) tai TUEN10E (10 €) numeroon 16140\n2. MobilePaylla haluamasi summan numeroon 15532\n3. Laula Liven verkkokaupassa \nKonsertin ohjelma: \nLinkola: Laulu Oravasta\nMahler: Frühlingsmorgen\nMerikanto: Omenankukat\nMerikanto: Myrskylintu\nRavel: Chanson romanesque\nQuilter: Come away\, Death\nRautavaara: Shall I Compare Thee\nRautavaara: Sydämeni laulu\nSibelius: Koivu\nSibelius: Var det en dröm\nSchumann: Du bist wie eine Blume\nLehár: Dein ist mein ganzes Herz\nLoewe: On the Street Where You Live \nKATSO KONSERTTI
URL:https://aarnepelkonen.com/event/aarnen-ja-juhon-kevat-2/
ATTACH;FMTTYPE=image/jpeg:https://aarnepelkonen.com/wp-content/uploads/2021/10/Aarne-ja-Juho-1280x720-2.jpg
END:VEVENT
END:VCALENDAR