BEGIN:VCALENDAR
VERSION:2.0
PRODID:-//Aarne Pelkonen - ECPv6.15.20//NONSGML v1.0//EN
CALSCALE:GREGORIAN
METHOD:PUBLISH
X-ORIGINAL-URL:https://aarnepelkonen.com/en/
X-WR-CALDESC:Events for Aarne Pelkonen
REFRESH-INTERVAL;VALUE=DURATION:PT1H
X-Robots-Tag:noindex
X-PUBLISHED-TTL:PT1H
BEGIN:VTIMEZONE
TZID:Europe/Helsinki
BEGIN:DAYLIGHT
TZOFFSETFROM:+0200
TZOFFSETTO:+0300
TZNAME:EEST
DTSTART:20220327T010000
END:DAYLIGHT
BEGIN:STANDARD
TZOFFSETFROM:+0300
TZOFFSETTO:+0200
TZNAME:EET
DTSTART:20221030T010000
END:STANDARD
BEGIN:DAYLIGHT
TZOFFSETFROM:+0200
TZOFFSETTO:+0300
TZNAME:EEST
DTSTART:20230326T010000
END:DAYLIGHT
BEGIN:STANDARD
TZOFFSETFROM:+0300
TZOFFSETTO:+0200
TZNAME:EET
DTSTART:20231029T010000
END:STANDARD
BEGIN:DAYLIGHT
TZOFFSETFROM:+0200
TZOFFSETTO:+0300
TZNAME:EEST
DTSTART:20240331T010000
END:DAYLIGHT
BEGIN:STANDARD
TZOFFSETFROM:+0300
TZOFFSETTO:+0200
TZNAME:EET
DTSTART:20241027T010000
END:STANDARD
END:VTIMEZONE
BEGIN:VEVENT
DTSTART;TZID=Europe/Helsinki:20230420T190000
DTEND;TZID=Europe/Helsinki:20230420T213000
DTSTAMP:20260424T084927
CREATED:20221010T065324Z
LAST-MODIFIED:20221010T071053Z
UID:3177-1682017200-1682026200@aarnepelkonen.com
SUMMARY:Magic Flute
DESCRIPTION:Combining animation and live singers makes for a hugely enjoyable and widely acclaimed experience. In this celebrated production created at the Komische Opera in Berlin\, The Magic Flute is recast as a fantastic tale from the golden era of silent cinema. The precisely timed collaboration of live action and moving images brings an endless variety of fantastic riches to the stage. \nThe familiary story of Tamino seeking Pamina and Papageno pining for Papagena and of the struggle between darkness and light is all there\, as is Mozart’s wonderful music. The story is more captivating than ever\, with the spoken dialogue being replaced with animation and text. \nBuy tickets
URL:https://aarnepelkonen.com/en/event/magic-flute-3/
LOCATION:Suomen Kansallisooppera\, Helsinginkatu 58\, Helsinki\, 00250\, Suomi
ATTACH;FMTTYPE=image/jpeg:https://aarnepelkonen.com/wp-content/uploads/2022/05/Taikahuilu.jpg
END:VEVENT
END:VCALENDAR